BEGIN:VCALENDAR
VERSION:2.0
PRODID:-//WWV Winterswijk - ECPv6.15.20//NONSGML v1.0//EN
CALSCALE:GREGORIAN
METHOD:PUBLISH
X-ORIGINAL-URL:https://wwvwinterswijk.nl
X-WR-CALDESC:Evenementen voor WWV Winterswijk
REFRESH-INTERVAL;VALUE=DURATION:PT1H
X-Robots-Tag:noindex
X-PUBLISHED-TTL:PT1H
BEGIN:VTIMEZONE
TZID:Europe/Amsterdam
BEGIN:DAYLIGHT
TZOFFSETFROM:+0100
TZOFFSETTO:+0200
TZNAME:CEST
DTSTART:20240331T010000
END:DAYLIGHT
BEGIN:STANDARD
TZOFFSETFROM:+0200
TZOFFSETTO:+0100
TZNAME:CET
DTSTART:20241027T010000
END:STANDARD
BEGIN:DAYLIGHT
TZOFFSETFROM:+0100
TZOFFSETTO:+0200
TZNAME:CEST
DTSTART:20250330T010000
END:DAYLIGHT
BEGIN:STANDARD
TZOFFSETFROM:+0200
TZOFFSETTO:+0100
TZNAME:CET
DTSTART:20251026T010000
END:STANDARD
BEGIN:DAYLIGHT
TZOFFSETFROM:+0100
TZOFFSETTO:+0200
TZNAME:CEST
DTSTART:20260329T010000
END:DAYLIGHT
BEGIN:STANDARD
TZOFFSETFROM:+0200
TZOFFSETTO:+0100
TZNAME:CET
DTSTART:20261025T010000
END:STANDARD
END:VTIMEZONE
BEGIN:VEVENT
DTSTART;TZID=Europe/Amsterdam:20250517T110000
DTEND;TZID=Europe/Amsterdam:20250518T190000
DTSTAMP:20260420T070906
CREATED:20240804T102250Z
LAST-MODIFIED:20250526T082704Z
UID:10000858-1747479600-1747594800@wwvwinterswijk.nl
SUMMARY:GK A 2025 lb deel 1
DESCRIPTION:Voor wie: zwemselectie met een GK limiet(en).\nKosten: 6 euro – gepast betalen\nVertrek: 11.45 uur\nZwembad: Sportfondsenbad West\nJuryvergadering: 13.15 uur\nInzwemmen: 13.15 – 13.50 uur\nAanvang wedstrijd: 14.00 uur\nTrainer(s): Bryan\nPloegleider: nvt\nOfficials: zaterdag -\, zondag Simone (res)\nVervoer: zaterdag: Bryan / zondag: Simone \nLive Timing \nUitslagen WWV \nUitslagen \nDefinitieve inschrijving \nProgramma \nBehaalde limieten WWV \nAanmelden hier \nLimieten GK\nLimieten NK \nAfmelden uiterlijk zondag 4 mei 20:00 uur\nAfmelden hier \nInschrijving verstuurd 4 mei 2025 19:50uur \nKNZB Webkalender
URL:https://wwvwinterswijk.nl/activiteit/gk-a-2025-lb-deel-1/
LOCATION:Sportfondsenbad Nijmegen-West\, Planetenstraat 65\, Nijmegen\, Gelderland\, 6543 VW\, Nederland
CATEGORIES:Zwemwedstrijden
END:VEVENT
END:VCALENDAR