BEGIN:VCALENDAR
VERSION:2.0
PRODID:-//WWV Winterswijk - ECPv6.15.20//NONSGML v1.0//EN
CALSCALE:GREGORIAN
METHOD:PUBLISH
X-WR-CALNAME:WWV Winterswijk
X-ORIGINAL-URL:https://wwvwinterswijk.nl
X-WR-CALDESC:Evenementen voor WWV Winterswijk
REFRESH-INTERVAL;VALUE=DURATION:PT1H
X-Robots-Tag:noindex
X-PUBLISHED-TTL:PT1H
BEGIN:VTIMEZONE
TZID:Europe/Amsterdam
BEGIN:DAYLIGHT
TZOFFSETFROM:+0100
TZOFFSETTO:+0200
TZNAME:CEST
DTSTART:20240331T010000
END:DAYLIGHT
BEGIN:STANDARD
TZOFFSETFROM:+0200
TZOFFSETTO:+0100
TZNAME:CET
DTSTART:20241027T010000
END:STANDARD
BEGIN:DAYLIGHT
TZOFFSETFROM:+0100
TZOFFSETTO:+0200
TZNAME:CEST
DTSTART:20250330T010000
END:DAYLIGHT
BEGIN:STANDARD
TZOFFSETFROM:+0200
TZOFFSETTO:+0100
TZNAME:CET
DTSTART:20251026T010000
END:STANDARD
BEGIN:DAYLIGHT
TZOFFSETFROM:+0100
TZOFFSETTO:+0200
TZNAME:CEST
DTSTART:20260329T010000
END:DAYLIGHT
BEGIN:STANDARD
TZOFFSETFROM:+0200
TZOFFSETTO:+0100
TZNAME:CET
DTSTART:20261025T010000
END:STANDARD
END:VTIMEZONE
BEGIN:VEVENT
DTSTART;TZID=Europe/Amsterdam:20250308T133000
DTEND;TZID=Europe/Amsterdam:20250308T180000
DTSTAMP:20260420T102033
CREATED:20240802T124720Z
LAST-MODIFIED:20250309T085351Z
UID:10000838-1741440600-1741456800@wwvwinterswijk.nl
SUMMARY:Zwemcompetitie 24/25 deel 4
DESCRIPTION:Voor wie: zwemselectie.\nKosten: 4 euro – gepast betalen\nVertrek: 12:15 uur\nInzwemmen & juryvergadering: 13:30 uur\nStart wedstrijd: 14:00 uur\nTrainer(s): Bryan\nPloegleider: Iris\nOfficials: Manon\, Simone\, Wilfried\nVervoer: Iris\, Rolf\, Roos\, Wessel \nKNZB Zwemcompetitie 2024-2025 – Standen \nLive Timing\n \nUitslagen WWV\n \nUitslagen\n \nStartlijst \nDefinitieve inschrijving \nAfmelden uiterlijk vrijdag 21 februari 20:00 uur\nAfmelden hier \nInschrijving verstuurd donderdag 27 februari 17:07uur. \nKNZB Webkalender
URL:https://wwvwinterswijk.nl/activiteit/zwemcompetitie-24-25-deel-4/
LOCATION:Twentebad – Hengelo\, Lage Weide 3-5\, Hengelo\, Overijssel\, 7556NA\, Nederland
CATEGORIES:Zwemwedstrijden
END:VEVENT
END:VCALENDAR