BEGIN:VCALENDAR
VERSION:2.0
PRODID:-//WWV Winterswijk - ECPv6.15.20//NONSGML v1.0//EN
CALSCALE:GREGORIAN
METHOD:PUBLISH
X-ORIGINAL-URL:https://wwvwinterswijk.nl
X-WR-CALDESC:Evenementen voor WWV Winterswijk
REFRESH-INTERVAL;VALUE=DURATION:PT1H
X-Robots-Tag:noindex
X-PUBLISHED-TTL:PT1H
BEGIN:VTIMEZONE
TZID:Europe/Amsterdam
BEGIN:DAYLIGHT
TZOFFSETFROM:+0100
TZOFFSETTO:+0200
TZNAME:CEST
DTSTART:20230326T010000
END:DAYLIGHT
BEGIN:STANDARD
TZOFFSETFROM:+0200
TZOFFSETTO:+0100
TZNAME:CET
DTSTART:20231029T010000
END:STANDARD
BEGIN:DAYLIGHT
TZOFFSETFROM:+0100
TZOFFSETTO:+0200
TZNAME:CEST
DTSTART:20240331T010000
END:DAYLIGHT
BEGIN:STANDARD
TZOFFSETFROM:+0200
TZOFFSETTO:+0100
TZNAME:CET
DTSTART:20241027T010000
END:STANDARD
BEGIN:DAYLIGHT
TZOFFSETFROM:+0100
TZOFFSETTO:+0200
TZNAME:CEST
DTSTART:20250330T010000
END:DAYLIGHT
BEGIN:STANDARD
TZOFFSETFROM:+0200
TZOFFSETTO:+0100
TZNAME:CET
DTSTART:20251026T010000
END:STANDARD
END:VTIMEZONE
BEGIN:VEVENT
DTSTART;TZID=Europe/Amsterdam:20241220T090000
DTEND;TZID=Europe/Amsterdam:20241222T190000
DTSTAMP:20260423T094023
CREATED:20240802T124716Z
LAST-MODIFIED:20241227T101230Z
UID:10000833-1734685200-1734894000@wwvwinterswijk.nl
SUMMARY:NK 2024 kb
DESCRIPTION:Sluiting afmelden zondag 8 december 2024 17:00uur via Email \nDefinitieve inschrijving\nVerstuurd maandag 9 december 2024 22:26uur \nUitslag WWV \nLive Timing\nMeer informatie hier.
URL:https://wwvwinterswijk.nl/activiteit/nk-2024-kb/
LOCATION:Zwembad het Hofbad – Den Haag\, Ypenburgse Boslaan 30\, Den Haag\, 2496 ZA\, Nederland
CATEGORIES:Zwemwedstrijden
END:VEVENT
END:VCALENDAR