BEGIN:VCALENDAR
VERSION:2.0
PRODID:-//WWV Winterswijk - ECPv6.15.20//NONSGML v1.0//EN
CALSCALE:GREGORIAN
METHOD:PUBLISH
X-ORIGINAL-URL:https://wwvwinterswijk.nl
X-WR-CALDESC:Evenementen voor WWV Winterswijk
REFRESH-INTERVAL;VALUE=DURATION:PT1H
X-Robots-Tag:noindex
X-PUBLISHED-TTL:PT1H
BEGIN:VTIMEZONE
TZID:Europe/Amsterdam
BEGIN:DAYLIGHT
TZOFFSETFROM:+0100
TZOFFSETTO:+0200
TZNAME:CEST
DTSTART:20250330T010000
END:DAYLIGHT
BEGIN:STANDARD
TZOFFSETFROM:+0200
TZOFFSETTO:+0100
TZNAME:CET
DTSTART:20251026T010000
END:STANDARD
BEGIN:DAYLIGHT
TZOFFSETFROM:+0100
TZOFFSETTO:+0200
TZNAME:CEST
DTSTART:20260329T010000
END:DAYLIGHT
BEGIN:STANDARD
TZOFFSETFROM:+0200
TZOFFSETTO:+0100
TZNAME:CET
DTSTART:20261025T010000
END:STANDARD
BEGIN:DAYLIGHT
TZOFFSETFROM:+0100
TZOFFSETTO:+0200
TZNAME:CEST
DTSTART:20270328T010000
END:DAYLIGHT
BEGIN:STANDARD
TZOFFSETFROM:+0200
TZOFFSETTO:+0100
TZNAME:CET
DTSTART:20271031T010000
END:STANDARD
END:VTIMEZONE
BEGIN:VEVENT
DTSTART;TZID=Europe/Amsterdam:20260118T143000
DTEND;TZID=Europe/Amsterdam:20260118T190000
DTSTAMP:20260419T172847
CREATED:20251215T114906Z
LAST-MODIFIED:20260118T210249Z
UID:10000993-1768746600-1768762800@wwvwinterswijk.nl
SUMMARY:EZC 25/26 deel 4
DESCRIPTION:Voor wie: Zwemselectie\nVertrek: 13.15 uur\nInzwemmen & juryvergadering: 14:30 uur\nStart wedstrijd: 15:00 uur\nTrainer(s): Bryan\, Hetty & Maurice\nPloegleider: Lieke\nOfficials: Anneke\, Beau\, Daniëlle\, Erwin & Simone\nVervoer: Jolie\, Lieke\, Lisa\, Mecx\, Roos V \nUitslag WWV\n\n\n\n    \n        \n            \n            \n                20260118 Doesburg EZC d4 Uitslagen WWV\n                 1 bestand(en)  21.08 KB\n            \n            \n                Downloaden\n            \n        \n    \n\n\n\nUitslag\n\n\n\n    \n        \n            \n            \n                20260118 Doesburg EZC d4 Uitslagen\n                 1 bestand(en)  21.08 KB\n            \n            \n                Downloaden\n            \n        \n    \n\n\n\nStartlijst WWV gemarkeerd \n\n\n\n    \n        \n            \n            \n                20260118 Doesburg EZC d4 Startlijst\n                 1 bestand(en)  21.08 KB\n            \n            \n                Downloaden\n            \n        \n    \n\n\n\nDefinitieve inschrijving \n\n\n\n    \n        \n            \n            \n                20260118 Doesburg EZC d4 inschrijving WWV\n                 1 bestand(en)  21.08 KB\n            \n            \n                Downloaden\n            \n        \n    \n\n\n\nAfmelden uiterlijk vrijdag 9 januari 20:00 uur \nVerzonden 11 januari 12:55uur \nAfmelden en wijzigingen hier\nKNZB Webkalender \n 
URL:https://wwvwinterswijk.nl/activiteit/ezc-25-26-deel-4/
LOCATION:Zwembad Den Helder – Doesburg\, Den Helder 1\, Doesburg\, Gelderland\, 6982 DT \, Nederland
CATEGORIES:Zwemwedstrijden
END:VEVENT
END:VCALENDAR