BEGIN:VCALENDAR
VERSION:2.0
PRODID:-//WWV Winterswijk - ECPv6.15.20//NONSGML v1.0//EN
CALSCALE:GREGORIAN
METHOD:PUBLISH
X-WR-CALNAME:WWV Winterswijk
X-ORIGINAL-URL:https://wwvwinterswijk.nl
X-WR-CALDESC:Evenementen voor WWV Winterswijk
REFRESH-INTERVAL;VALUE=DURATION:PT1H
X-Robots-Tag:noindex
X-PUBLISHED-TTL:PT1H
BEGIN:VTIMEZONE
TZID:Europe/Amsterdam
BEGIN:DAYLIGHT
TZOFFSETFROM:+0100
TZOFFSETTO:+0200
TZNAME:CEST
DTSTART:20240331T010000
END:DAYLIGHT
BEGIN:STANDARD
TZOFFSETFROM:+0200
TZOFFSETTO:+0100
TZNAME:CET
DTSTART:20241027T010000
END:STANDARD
BEGIN:DAYLIGHT
TZOFFSETFROM:+0100
TZOFFSETTO:+0200
TZNAME:CEST
DTSTART:20250330T010000
END:DAYLIGHT
BEGIN:STANDARD
TZOFFSETFROM:+0200
TZOFFSETTO:+0100
TZNAME:CET
DTSTART:20251026T010000
END:STANDARD
BEGIN:DAYLIGHT
TZOFFSETFROM:+0100
TZOFFSETTO:+0200
TZNAME:CEST
DTSTART:20260329T010000
END:DAYLIGHT
BEGIN:STANDARD
TZOFFSETFROM:+0200
TZOFFSETTO:+0100
TZNAME:CET
DTSTART:20261025T010000
END:STANDARD
END:VTIMEZONE
BEGIN:VEVENT
DTSTART;TZID=Europe/Amsterdam:20250612T080000
DTEND;TZID=Europe/Amsterdam:20250615T200000
DTSTAMP:20260420T035355
CREATED:20240804T102251Z
LAST-MODIFIED:20250616T145450Z
UID:10000861-1749715200-1750017600@wwvwinterswijk.nl
SUMMARY:NK 2025 lb - Amersfoort
DESCRIPTION:Inschrijving verstuurd 30 mei 2025 11:17uur \nUitslagen WWV \nDefinitieve inschrijving \nLive Timing \nFoto’s\nZwemSportFoto_KJvO_KJ63915_20250615_111008#NK\, #NK033\, #WKKwalificatie\, 100m vlinderslag\, Amerena\, Arena\, Butterfly\, Competition\, Dag_4\, Dames\, Day_4\, KNZB\, Kirsten Verhalle\, Michelle van Wijk\, NED\, NK2025lb\, Nederland\, Nederlandse Kampioenschappen Zwemmen 2025 Lange Baan\, Netherlands\, PSV\, Sessie_07\, Session_07\, Sport\, Swimming\, WWV Winterswijk\, Wedstrijd\, Women\, Zwemmen\, heats\, nk25lbaction\, series\, voorstart\, www.zwemsportfoto.nl | © Kees-Jan van Overbeeke | ZwemSportFoto_KJvO_KJ63915_20250615_111008 ZwemSportFoto_KJvO_KJ65094_20250615_180914#NK\, #NK033\, #WKKwalificatie\, 200m vrije slag\, Amerena\, Arena\, B Finale\, Competition\, Dag_4\, Dames\, Day_4\, Finales\, Finals\, Freestyle\, KNZB\, Michelle van Wijk\, NED\, NK2025lb\, Nederland\, Nederlandse Kampioenschappen Zwemmen 2025 Lange Baan\, Netherlands\, Sessie_08\, Session_08\, Sport\, Swimming\, WWV Winterswijk\, Wedstrijd\, Women\, Zwemmen\, borstcrawl\, finish\, nk25lbaction\, www.zwemsportfoto.nl | © Kees-Jan van Overbeeke | ZwemSportFoto_KJvO_KJ65094_20250615_180914 ZwemSportFoto_KJvO_KJ65054_20250615_180602#NK\, #NK033\, #WKKwalificatie\, 200m vrije slag\, Amerena\, Arena\, B Finale\, Competition\, Dag_4\, Dames\, Day_4\, Finales\, Finals\, Freestyle\, KNZB\, Michelle van Wijk\, NED\, NK2025lb\, Nederland\, Nederlandse Kampioenschappen Zwemmen 2025 Lange Baan\, Netherlands\, Sessie_08\, Session_08\, Sport\, Swimming\, WWV Winterswijk\, Wedstrijd\, Women\, Zwemmen\, nk25lbaction\, voorstart\, www.zwemsportfoto.nl | © Kees-Jan van Overbeeke | ZwemSportFoto_KJvO_KJ65054_20250615_180602 ZwemSportFoto_KJvO_KJ62712_20250615_094538#NK\, #NK033\, #WKKwalificatie\, 200m vrije slag\, Amerena\, Arena\, Competition\, Dag_4\, Dames\, Day_4\, Freestyle\, KNZB\, Michelle van Wijk\, NED\, NK2025lb\, Nederland\, Nederlandse Kampioenschappen Zwemmen 2025 Lange Baan\, Netherlands\, Sessie_07\, Session_07\, Sport\, Swimming\, WWV Winterswijk\, Wedstrijd\, Women\, Zwemmen\, finish\, heats\, nk25lbaction\, series\, www.zwemsportfoto.nl | © Kees-Jan van Overbeeke | ZwemSportFoto_KJvO_KJ62712_20250615_094538 ZwemSportFoto_KJvO_KJ61340_20250612_101007#NK\, #NK033\, #WKKwalificatie\, 100m vrije slag\, Amerena\, Arena\, Competition\, Dag_1\, Dames\, Day_1\, Freestyle\, KNZB\, Michelle van Wijk\, NED\, NK2025lb\, Nederland\, Nederlandse Kampioenschappen Zwemmen 2025 Lange Baan\, Netherlands\, Sessie_01\, Session_01\, Sport\, Swimming\, WWV Winterswijk\, Wedstrijd\, Women\, Zwemmen\, heats\, nk25lbaction\, series\, start\, www.zwemsportfoto.nl | © Kees-Jan van Overbeeke | ZwemSportFoto_KJvO_KJ61340_20250612_101007 ZwemSportFoto_KJvO_KJ65108_20250615_180935#NK\, #NK033\, #WKKwalificatie\, 200m vrije slag\, Amerena\, Arena\, B Finale\, Competition\, Dag_4\, Dames\, Day_4\, Finales\, Finals\, Freestyle\, KNZB\, Michelle van Wijk\, NED\, NK2025lb\, Nederland\, Nederlandse Kampioenschappen Zwemmen 2025 Lange Baan\, Netherlands\, Sessie_08\, Session_08\, Sport\, Swimming\, WWV Winterswijk\, Wedstrijd\, Women\, Zwemmen\, finish\, nk25lbaction\, www.zwemsportfoto.nl | © Kees-Jan van Overbeeke | ZwemSportFoto_KJvO_KJ65108_20250615_180935 ZwemSportFoto_KJvO_KJ62572_20250615_094218#NK\, #NK033\, #WKKwalificatie\, 200m vrije slag\, Amerena\, Arena\, Competition\, Dag_4\, Dames\, Day_4\, Freestyle\, KNZB\, Michelle van Wijk\, NED\, NK2025lb\, Nederland\, Nederlandse Kampioenschappen Zwemmen 2025 Lange Baan\, Netherlands\, Sessie_07\, Session_07\, Sport\, Swimming\, WWV Winterswijk\, Wedstrijd\, Women\, Zwemmen\, heats\, nk25lbaction\, series\, voorstart\, www.zwemsportfoto.nl | © Kees-Jan van Overbeeke | ZwemSportFoto_KJvO_KJ62572_20250615_094218 ZwemSportFoto_KJvO_KJ61225_20250612_100022#NK\, #NK033\, #WKKwalificatie\, 100m vrije slag\, Amerena\, Arena\, Competition\, Dag_1\, Dames\, Day_1\, Freestyle\, Iris Papen\, KNZB\, NED\, NK2025lb\, Nederland\, Nederlandse Kampioenschappen Zwemmen 2025 Lange Baan\, Netherlands\, Sessie_01\, Session_01\, Sport\, Swimming\, WWV Winterswijk\, Wedstrijd\, Women\, Zwemmen\, heats\, nk25lbaction\, series\, start\, www.zwemsportfoto.nl | © Kees-Jan van Overbeeke | ZwemSportFoto_KJvO_KJ61225_20250612_100022 ZwemSportFoto_KJvO_KJ61232_20250612_100027#NK\, #NK033\, #WKKwalificatie\, 100m vrije slag\, Amerena\, Arena\, Competition\, Dag_1\, Dames\, Day_1\, Freestyle\, Iris Papen\, KNZB\, NED\, NK2025lb\, Nederland\, Nederlandse Kampioenschappen Zwemmen 2025 Lange Baan\, Netherlands\, Sessie_01\, Session_01\, Sport\, Swimming\, WWV Winterswijk\, Wedstrijd\, Women\, Zwemmen\, heats\, nk25lbaction\, series\, start\, www.zwemsportfoto.nl | © Kees-Jan van Overbeeke | ZwemSportFoto_KJvO_KJ61232_20250612_100027 ZwemSportFoto_KJvO_KJ65077_20250615_180911#NK\, #NK033\, #WKKwalificatie\, 200m vrije slag\, Amerena\, Arena\, B Finale\, Competition\, Dag_4\, Dames\, Day_4\, Finales\, Finals\, Freestyle\, KNZB\, Michelle van Wijk\, NED\, NK2025lb\, Nederland\, Nederlandse Kampioenschappen Zwemmen 2025 Lange Baan\, Netherlands\, Sessie_08\, Session_08\, Sport\, Swimming\, WWV Winterswijk\, Wedstrijd\, Women\, Zwemmen\, borstcrawl\, nk25lbaction\, www.zwemsportfoto.nl | © Kees-Jan van Overbeeke | ZwemSportFoto_KJvO_KJ65077_20250615_180911 ZwemSportFoto_KJvO_KJ62652_20250615_094500#NK\, #NK033\, #WKKwalificatie\, 200m vrije slag\, Amerena\, Arena\, Competition\, Dag_4\, Dames\, Day_4\, Freestyle\, KNZB\, Michelle van Wijk\, NED\, NK2025lb\, Nederland\, Nederlandse Kampioenschappen Zwemmen 2025 Lange Baan\, Netherlands\, Sessie_07\, Session_07\, Sport\, Swimming\, WWV Winterswijk\, Wedstrijd\, Women\, Zwemmen\, borstcrawl\, heats\, nk25lbaction\, series\, www.zwemsportfoto.nl | © Kees-Jan van Overbeeke | ZwemSportFoto_KJvO_KJ62652_20250615_094500 ZwemSportFoto_KJvO_KJ69654_20250614_105405#NK\, #NK033\, #WKKwalificatie\, 50m vrije slag\, Amerena\, Arena\, Competition\, Dag_3\, Dames\, Day_3\, Freestyle\, Iris Papen\, KNZB\, NED\, NK2025lb\, Nederland\, Nederlandse Kampioenschappen Zwemmen 2025 Lange Baan\, Netherlands\, Sessie_05\, Session_05\, Sport\, Swimming\, WWV Winterswijk\, Wedstrijd\, Women\, Zwemmen\, heats\, nk25lbaction\, series\, voorstart\, www.zwemsportfoto.nl | © Kees-Jan van Overbeeke | ZwemSportFoto_KJvO_KJ69654_20250614_105405 ZwemSportFoto_KJvO_KJ62667_20250615_094504#NK\, #NK033\, #WKKwalificatie\, 200m vrije slag\, Amerena\, Arena\, Competition\, Dag_4\, Dames\, Day_4\, Freestyle\, KNZB\, Michelle van Wijk\, NED\, NK2025lb\, Nederland\, Nederlandse Kampioenschappen Zwemmen 2025 Lange Baan\, Netherlands\, Sessie_07\, Session_07\, Sport\, Swimming\, WWV Winterswijk\, Wedstrijd\, Women\, Zwemmen\, borstcrawl\, heats\, nk25lbaction\, series\, www.zwemsportfoto.nl | © Kees-Jan van Overbeeke | ZwemSportFoto_KJvO_KJ62667_20250615_094504 ZwemSportFoto_KJvO_KJ61242_20250612_100136#NK\, #NK033\, #WKKwalificatie\, 100m vrije slag\, Amerena\, Arena\, Competition\, Dag_1\, Dames\, Day_1\, Freestyle\, Iris Papen\, KNZB\, NED\, NK2025lb\, Nederland\, Nederlandse Kampioenschappen Zwemmen 2025 Lange Baan\, Netherlands\, Sessie_01\, Session_01\, Sport\, Swimming\, WWV Winterswijk\, Wedstrijd\, Women\, Zwemmen\, finish\, heats\, nk25lbaction\, series\, www.zwemsportfoto.nl | © Kees-Jan van Overbeeke | ZwemSportFoto_KJvO_KJ61242_20250612_100136 ZwemSportFoto_KJvO_KJ61368_20250612_101025#NK\, #NK033\, #WKKwalificatie\, 100m vrije slag\, Amerena\, Arena\, Competition\, Dag_1\, Dames\, Day_1\, Freestyle\, KNZB\, Michelle van Wijk\, NED\, NK2025lb\, Nederland\, Nederlandse Kampioenschappen Zwemmen 2025 Lange Baan\, Netherlands\, Sessie_01\, Session_01\, Sport\, Swimming\, WWV Winterswijk\, Wedstrijd\, Women\, Zwemmen\, borstcrawl\, heats\, nk25lbaction\, series\, www.zwemsportfoto.nl | © Kees-Jan van Overbeeke | ZwemSportFoto_KJvO_KJ61368_20250612_101025 ZwemSportFoto_KJvO_KJ65056_20250615_180603#NK\, #NK033\, #WKKwalificatie\, 200m vrije slag\, Amerena\, Arena\, B Finale\, Competition\, Dag_4\, Dames\, Day_4\, Finales\, Finals\, Freestyle\, KNZB\, Michelle van Wijk\, NED\, NK2025lb\, Nederland\, Nederlandse Kampioenschappen Zwemmen 2025 Lange Baan\, Netherlands\, Sessie_08\, Session_08\, Sport\, Swimming\, WWV Winterswijk\, Wedstrijd\, Women\, Zwemmen\, nk25lbaction\, voorstart\, www.zwemsportfoto.nl | © Kees-Jan van Overbeeke | ZwemSportFoto_KJvO_KJ65056_20250615_180603 ZwemSportFoto_KJvO_KJ65061_20250615_180627#NK\, #NK033\, #WKKwalificatie\, 200m vrije slag\, Amerena\, Arena\, B Finale\, Competition\, Dag_4\, Dames\, Day_4\, Finales\, Finals\, Freestyle\, KNZB\, Michelle van Wijk\, NED\, NK2025lb\, Nederland\, Nederlandse Kampioenschappen Zwemmen 2025 Lange Baan\, Netherlands\, Sessie_08\, Session_08\, Sport\, Swimming\, WWV Winterswijk\, Wedstrijd\, Women\, Zwemmen\, nk25lbaction\, voorstart\, www.zwemsportfoto.nl | © Kees-Jan van Overbeeke | ZwemSportFoto_KJvO_KJ65061_20250615_180627 ZwemSportFoto_KJvO_KJ69670_20250614_105516#NK\, #NK033\, #WKKwalificatie\, 50m vrije slag\, Amerena\, Arena\, Competition\, Dag_3\, Dames\, Day_3\, Freestyle\, Iris Papen\, KNZB\, NED\, NK2025lb\, Nederland\, Nederlandse Kampioenschappen Zwemmen 2025 Lange Baan\, Netherlands\, Sessie_05\, Session_05\, Sport\, Swimming\, WWV Winterswijk\, Wedstrijd\, Women\, Zwemmen\, finish\, heats\, nk25lbaction\, series\, www.zwemsportfoto.nl | © Kees-Jan van Overbeeke | ZwemSportFoto_KJvO_KJ69670_20250614_105516 ZwemSportFoto_KJvO_KJ65059_20250615_180610#NK\, #NK033\, #WKKwalificatie\, 200m vrije slag\, Amerena\, Arena\, B Finale\, Competition\, Dag_4\, Dames\, Day_4\, Finales\, Finals\, Freestyle\, KNZB\, Michelle van Wijk\, NED\, NK2025lb\, Nederland\, Nederlandse Kampioenschappen Zwemmen 2025 Lange Baan\, Netherlands\, Sessie_08\, Session_08\, Sport\, Swimming\, WWV Winterswijk\, Wedstrijd\, Women\, Zwemmen\, nk25lbaction\, voorstart\, www.zwemsportfoto.nl | © Kees-Jan van Overbeeke | ZwemSportFoto_KJvO_KJ65059_20250615_180610 ZwemSportFoto_KJvO_KJ61370_20250612_101025#NK\, #NK033\, #WKKwalificatie\, 100m vrije slag\, Amerena\, Arena\, Competition\, Dag_1\, Dames\, Day_1\, Freestyle\, KNZB\, Michelle van Wijk\, NED\, NK2025lb\, Nederland\, Nederlandse Kampioenschappen Zwemmen 2025 Lange Baan\, Netherlands\, Sessie_01\, Session_01\, Sport\, Swimming\, WWV Winterswijk\, Wedstrijd\, Women\, Zwemmen\, borstcrawl\, heats\, nk25lbaction\, series\, www.zwemsportfoto.nl | © Kees-Jan van Overbeeke | ZwemSportFoto_KJvO_KJ61370_20250612_101025 ZwemSportFoto_KJvO_KJ65678_20250615_190726#NK\, #NK033\, #WKKwalificatie\, 100m vlinderslag\, Amerena\, Arena\, B Finale\, Butterfly\, Competition\, Dag_4\, Dames\, Day_4\, Finales\, Finals\, KNZB\, Michelle van Wijk\, NED\, NK2025lb\, Nederland\, Nederlandse Kampioenschappen Zwemmen 2025 Lange Baan\, Netherlands\, Sessie_08\, Session_08\, Sport\, Swimming\, WWV Winterswijk\, Wedstrijd\, Women\, Zwemmen\, finish\, nk25lbaction\, www.zwemsportfoto.nl | © Kees-Jan van Overbeeke | ZwemSportFoto_KJvO_KJ65678_20250615_190726 ZwemSportFoto_KJvO_KJ65679_20250615_190729#NK\, #NK033\, #WKKwalificatie\, 100m vlinderslag\, Amerena\, Arena\, B Finale\, Butterfly\, Competition\, Dag_4\, Dames\, Day_4\, Finales\, Finals\, KNZB\, Michelle van Wijk\, NED\, NK2025lb\, Nederland\, Nederlandse Kampioenschappen Zwemmen 2025 Lange Baan\, Netherlands\, Sessie_08\, Session_08\, Sport\, Swimming\, WWV Winterswijk\, Wedstrijd\, Women\, Zwemmen\, finish\, nk25lbaction\, www.zwemsportfoto.nl | © Kees-Jan van Overbeeke | ZwemSportFoto_KJvO_KJ65679_20250615_190729 ZwemSportFoto_KJvO_KJ65104_20250615_180933#NK\, #NK033\, #WKKwalificatie\, 200m vrije slag\, Amerena\, Arena\, B Finale\, Competition\, Dag_4\, Dames\, Day_4\, Finales\, Finals\, Freestyle\, KNZB\, Michelle van Wijk\, NED\, NK2025lb\, Nederland\, Nederlandse Kampioenschappen Zwemmen 2025 Lange Baan\, Netherlands\, Sessie_08\, Session_08\, Sport\, Swimming\, WWV Winterswijk\, Wedstrijd\, Women\, Zwemmen\, finish\, nk25lbaction\, www.zwemsportfoto.nl | © Kees-Jan van Overbeeke | ZwemSportFoto_KJvO_KJ65104_20250615_180933 ZwemSportFoto_KJvO_KJ61334_20250612_100950#NK\, #NK033\, #WKKwalificatie\, 100m vrije slag\, Amerena\, Arena\, Competition\, Dag_1\, Dames\, Day_1\, Freestyle\, KNZB\, Michelle van Wijk\, NED\, NK2025lb\, Nederland\, Nederlandse Kampioenschappen Zwemmen 2025 Lange Baan\, Netherlands\, Sessie_01\, Session_01\, Sport\, Swimming\, WWV Winterswijk\, Wedstrijd\, Women\, Zwemmen\, heats\, nk25lbaction\, series\, voorstart\, www.zwemsportfoto.nl | © Kees-Jan van Overbeeke | ZwemSportFoto_KJvO_KJ61334_20250612_100950 ZwemSportFoto_KJvO_KJ62689_20250615_094517#NK\, #NK033\, #WKKwalificatie\, 200m vrije slag\, Amerena\, Arena\, Competition\, Dag_4\, Dames\, Day_4\, Freestyle\, KNZB\, Michelle van Wijk\, NED\, NK2025lb\, Nederland\, Nederlandse Kampioenschappen Zwemmen 2025 Lange Baan\, Netherlands\, Sessie_07\, Session_07\, Sport\, Swimming\, WWV Winterswijk\, Wedstrijd\, Women\, Zwemmen\, finish\, heats\, nk25lbaction\, series\, www.zwemsportfoto.nl | © Kees-Jan van Overbeeke | ZwemSportFoto_KJvO_KJ62689_20250615_094517 ZwemSportFoto_KJvO_KJ61221_20250612_095953#NK\, #NK033\, #WKKwalificatie\, 100m vrije slag\, Amerena\, Arena\, Competition\, Dag_1\, Dames\, Day_1\, Freestyle\, Iris Papen\, KNZB\, NED\, NK2025lb\, Nederland\, Nederlandse Kampioenschappen Zwemmen 2025 Lange Baan\, Netherlands\, Sessie_01\, Session_01\, Sport\, Swimming\, WWV Winterswijk\, Wedstrijd\, Women\, Zwemmen\, heats\, nk25lbaction\, series\, voorstart\, www.zwemsportfoto.nl | © Kees-Jan van Overbeeke | ZwemSportFoto_KJvO_KJ61221_20250612_095953 ZwemSportFoto_KJvO_KJ69663_20250614_105446#NK\, #NK033\, #WKKwalificatie\, 50m vrije slag\, Amerena\, Arena\, Competition\, Dag_3\, Dames\, Day_3\, Freestyle\, Iris Papen\, KNZB\, NED\, NK2025lb\, Nederland\, Nederlandse Kampioenschappen Zwemmen 2025 Lange Baan\, Netherlands\, Sessie_05\, Session_05\, Sport\, Swimming\, WWV Winterswijk\, Wedstrijd\, Women\, Zwemmen\, borstcrawl\, heats\, nk25lbaction\, series\, www.zwemsportfoto.nl | © Kees-Jan van Overbeeke | ZwemSportFoto_KJvO_KJ69663_20250614_105446 ZwemSportFoto_KJvO_KJ65103_20250615_180915#NK\, #NK033\, #WKKwalificatie\, 200m vrije slag\, Amerena\, Arena\, B Finale\, Competition\, Dag_4\, Dames\, Day_4\, Finales\, Finals\, Freestyle\, KNZB\, Michelle van Wijk\, NED\, NK2025lb\, Nederland\, Nederlandse Kampioenschappen Zwemmen 2025 Lange Baan\, Netherlands\, Sessie_08\, Session_08\, Sport\, Swimming\, WWV Winterswijk\, Wedstrijd\, Women\, Zwemmen\, borstcrawl\, finish\, nk25lbaction\, www.zwemsportfoto.nl | © Kees-Jan van Overbeeke | ZwemSportFoto_KJvO_KJ65103_20250615_180915 ZwemSportFoto_KJvO_KJ61233_20250612_100132#NK\, #NK033\, #WKKwalificatie\, 100m vrije slag\, Amerena\, Arena\, Competition\, Dag_1\, Dames\, Day_1\, Freestyle\, Iris Papen\, KNZB\, NED\, NK2025lb\, Nederland\, Nederlandse Kampioenschappen Zwemmen 2025 Lange Baan\, Netherlands\, Sessie_01\, Session_01\, Sport\, Swimming\, WWV Winterswijk\, Wedstrijd\, Women\, Zwemmen\, borstcrawl\, finish\, heats\, nk25lbaction\, series\, www.zwemsportfoto.nl | © Kees-Jan van Overbeeke | ZwemSportFoto_KJvO_KJ61233_20250612_100132 ZwemSportFoto_KJvO_KJ65662_20250615_190521#NK\, #NK033\, #WKKwalificatie\, 100m vlinderslag\, Amerena\, Arena\, B Finale\, Butterfly\, Competition\, Dag_4\, Dames\, Day_4\, Finales\, Finals\, KNZB\, Michelle van Wijk\, NED\, NK2025lb\, Nederland\, Nederlandse Kampioenschappen Zwemmen 2025 Lange Baan\, Netherlands\, Sessie_08\, Session_08\, Sport\, Swimming\, WWV Winterswijk\, Wedstrijd\, Women\, Zwemmen\, nk25lbaction\, start\, www.zwemsportfoto.nl | © Kees-Jan van Overbeeke | ZwemSportFoto_KJvO_KJ65662_20250615_190521 ZwemSportFoto_KJvO_KJ69660_20250614_105443#NK\, #NK033\, #WKKwalificatie\, 50m vrije slag\, Amerena\, Arena\, Competition\, Dag_3\, Dames\, Day_3\, Freestyle\, Iris Papen\, KNZB\, NED\, NK2025lb\, Nederland\, Nederlandse Kampioenschappen Zwemmen 2025 Lange Baan\, Netherlands\, Sessie_05\, Session_05\, Sport\, Swimming\, WWV Winterswijk\, Wedstrijd\, Women\, Zwemmen\, heats\, nk25lbaction\, series\, start\, www.zwemsportfoto.nl | © Kees-Jan van Overbeeke | ZwemSportFoto_KJvO_KJ69660_20250614_105443 ZwemSportFoto_KJvO_KJ61384_20250612_101122#NK\, #NK033\, #WKKwalificatie\, 100m vrije slag\, Amerena\, Arena\, Competition\, Dag_1\, Dames\, Day_1\, Freestyle\, KNZB\, Michelle van Wijk\, NED\, NK2025lb\, Nederland\, Nederlandse Kampioenschappen Zwemmen 2025 Lange Baan\, Netherlands\, Sessie_01\, Session_01\, Sport\, Swimming\, WWV Winterswijk\, Wedstrijd\, Women\, Zwemmen\, finish\, heats\, nk25lbaction\, series\, www.zwemsportfoto.nl | © Kees-Jan van Overbeeke | ZwemSportFoto_KJvO_KJ61384_20250612_101122 ZwemSportFoto_KJvO_KJ63919_20250615_111056#NK\, #NK033\, #WKKwalificatie\, 100m vlinderslag\, Amerena\, Arena\, Butterfly\, Competition\, Dag_4\, Dames\, Day_4\, KNZB\, Michelle van Wijk\, NED\, NK2025lb\, Nederland\, Nederlandse Kampioenschappen Zwemmen 2025 Lange Baan\, Netherlands\, Sessie_07\, Session_07\, Sport\, Swimming\, WWV Winterswijk\, Wedstrijd\, Women\, Zwemmen\, heats\, nk25lbaction\, series\, vlinderslag\, www.zwemsportfoto.nl | © Kees-Jan van Overbeeke | ZwemSportFoto_KJvO_KJ63919_20250615_111056 ZwemSportFoto_KJvO_KJ61245_20250612_100143#NK\, #NK033\, #WKKwalificatie\, 100m vrije slag\, Amerena\, Arena\, Competition\, Dag_1\, Dames\, Day_1\, Freestyle\, Iris Papen\, KNZB\, NED\, NK2025lb\, Nederland\, Nederlandse Kampioenschappen Zwemmen 2025 Lange Baan\, Netherlands\, Sessie_01\, Session_01\, Sport\, Swimming\, WWV Winterswijk\, Wedstrijd\, Women\, Zwemmen\, finish\, heats\, nk25lbaction\, series\, www.zwemsportfoto.nl | © Kees-Jan van Overbeeke | ZwemSportFoto_KJvO_KJ61245_20250612_100143 ZwemSportFoto_KJvO_KJ69657_20250614_105443#NK\, #NK033\, #WKKwalificatie\, 50m vrije slag\, Amerena\, Arena\, Competition\, Dag_3\, Dames\, Day_3\, Freestyle\, Iris Papen\, KNZB\, NED\, NK2025lb\, Nederland\, Nederlandse Kampioenschappen Zwemmen 2025 Lange Baan\, Netherlands\, Sessie_05\, Session_05\, Sport\, Swimming\, WWV Winterswijk\, Wedstrijd\, Women\, Zwemmen\, heats\, nk25lbaction\, series\, start\, www.zwemsportfoto.nl | © Kees-Jan van Overbeeke | ZwemSportFoto_KJvO_KJ69657_20250614_105443 ZwemSportFoto_KJvO_KJ62606_20250615_094357#NK\, #NK033\, #WKKwalificatie\, 200m vrije slag\, Amerena\, Arena\, Competition\, Dag_4\, Dames\, Day_4\, Freestyle\, KNZB\, Michelle van Wijk\, NED\, NK2025lb\, Nederland\, Nederlandse Kampioenschappen Zwemmen 2025 Lange Baan\, Netherlands\, Sessie_07\, Session_07\, Sport\, Swimming\, WWV Winterswijk\, Wedstrijd\, Women\, Zwemmen\, borstcrawl\, heats\, nk25lbaction\, series\, www.zwemsportfoto.nl | © Kees-Jan van Overbeeke | ZwemSportFoto_KJvO_KJ62606_20250615_094357
URL:https://wwvwinterswijk.nl/activiteit/nk-2025-lb-amersfoort/
LOCATION:Amerena – Amersfoort\, De Velduil 2\, Amersfoort\, Utrecht\, 3815 XT\, Nederland
CATEGORIES:Zwemwedstrijden
ORGANIZER;CN="KNZB":MAILTO:zwemmen@knzb.nl
END:VEVENT
BEGIN:VEVENT
DTSTART;TZID=Europe/Amsterdam:20250620T000000
DTEND;TZID=Europe/Amsterdam:20250622T000000
DTSTAMP:20260420T035355
CREATED:20240804T102250Z
LAST-MODIFIED:20250530T085536Z
UID:10000860-1750377600-1750550400@wwvwinterswijk.nl
SUMMARY:NJK 2025 lb - Drachten
DESCRIPTION:https://www.zwemcentrumdewelle.nl
URL:https://wwvwinterswijk.nl/activiteit/njk-2025-lb-drachten/
LOCATION:Zwemcentrum De Welle – Drachten\, Sportlaan 8A\, Drachten\, Friesland\, 9203 NW\, Nederland
CATEGORIES:Zwemwedstrijden
ORGANIZER;CN="KNZB":MAILTO:zwemmen@knzb.nl
END:VEVENT
BEGIN:VEVENT
DTSTART;TZID=Europe/Amsterdam:20250621T000000
DTEND;TZID=Europe/Amsterdam:20250622T000000
DTSTAMP:20260420T035355
CREATED:20240804T102305Z
LAST-MODIFIED:20240804T102305Z
UID:10000862-1750464000-1750550400@wwvwinterswijk.nl
SUMMARY:GK B 2025 lb
DESCRIPTION:
URL:https://wwvwinterswijk.nl/activiteit/gk-b-2025-lb/
LOCATION:Sportfondsenbad Nijmegen-West\, Planetenstraat 65\, Nijmegen\, Gelderland\, 6543 VW\, Nederland
CATEGORIES:Zwemwedstrijden
END:VEVENT
BEGIN:VEVENT
DTSTART;TZID=Europe/Amsterdam:20250628T080000
DTEND;TZID=Europe/Amsterdam:20250629T200000
DTSTAMP:20260420T035355
CREATED:20240804T102305Z
LAST-MODIFIED:20250721T113156Z
UID:10000863-1751097600-1751227200@wwvwinterswijk.nl
SUMMARY:NK 2025 Sprint - Rotterdam
DESCRIPTION:Inschrijving verstuurd 16 juni 2025 13:11uur \nUitslag WWV \nDefinitieve inschrijving \nLive Timing \nLive Stream \nFoto’s
URL:https://wwvwinterswijk.nl/activiteit/nk-2025-sprint-rotterdam/
LOCATION:Zwemcentrum Rotterdam\, Annie M.G. Schmidtplein 8\, Rotterdam\, Zuid-Holland\, 3083 NZ\, Nederland
CATEGORIES:Zwemwedstrijden
ORGANIZER;CN="KNZB":MAILTO:zwemmen@knzb.nl
END:VEVENT
BEGIN:VEVENT
DTSTART;TZID=Europe/Amsterdam:20250629T133000
DTEND;TZID=Europe/Amsterdam:20250629T180000
DTSTAMP:20260420T035355
CREATED:20240802T124735Z
LAST-MODIFIED:20250721T112036Z
UID:10000846-1751203800-1751220000@wwvwinterswijk.nl
SUMMARY:EZC 24/25 deel 5
DESCRIPTION:Voor wie: Zwemselectie en instroomselectie\nKosten: 3 euro – gepast betalen\nVertrek: 12.30 uur\nInzwemmen & juryvergadering: 13:30 uur\nStart wedstrijd: 14.00 uur\nTrainer(s): Hetty & Maurice\nPloegleider: Roos N\nOfficials: Anneke\, Daniëlle\, Simone\, Wendy\, Wilfried\nVervoer: Lieke\, Lisa\, Roos N\, Roos V \nUitslag WWV \nStartlijst \nDefinitieve inschrijving\nVerzonden 19 juni 2025\nVoor de zwemselectie:\nJe kan zelf opgeven welke afstanden je wilt zwemmen per email voor dinsdagavond 10 juni 20:00 uur. Hierna delen wij je in en/of stellen wij de estafettes samen.\nAfmelden liefst voor dinsdagavond 10 juni 20:00 uur\, maar uiterlijk maandag 16 juni 21:00 uur\nAfmelden hier \nKNZB Webkalender \n 
URL:https://wwvwinterswijk.nl/activiteit/ezc-24-25-deel-5/
LOCATION:Sportfondsen Oude IJsselstreek – Zwembad\, Het Veld 30\, Terborg\, Gelderland\, 7061 DD\, Nederland
CATEGORIES:Zwemwedstrijden
END:VEVENT
END:VCALENDAR