BEGIN:VCALENDAR
VERSION:2.0
PRODID:-//WWV Winterswijk - ECPv6.15.20//NONSGML v1.0//EN
CALSCALE:GREGORIAN
METHOD:PUBLISH
X-WR-CALNAME:WWV Winterswijk
X-ORIGINAL-URL:https://wwvwinterswijk.nl
X-WR-CALDESC:Evenementen voor WWV Winterswijk
REFRESH-INTERVAL;VALUE=DURATION:PT1H
X-Robots-Tag:noindex
X-PUBLISHED-TTL:PT1H
BEGIN:VTIMEZONE
TZID:Europe/Amsterdam
BEGIN:DAYLIGHT
TZOFFSETFROM:+0100
TZOFFSETTO:+0200
TZNAME:CEST
DTSTART:20240331T010000
END:DAYLIGHT
BEGIN:STANDARD
TZOFFSETFROM:+0200
TZOFFSETTO:+0100
TZNAME:CET
DTSTART:20241027T010000
END:STANDARD
BEGIN:DAYLIGHT
TZOFFSETFROM:+0100
TZOFFSETTO:+0200
TZNAME:CEST
DTSTART:20250330T010000
END:DAYLIGHT
BEGIN:STANDARD
TZOFFSETFROM:+0200
TZOFFSETTO:+0100
TZNAME:CET
DTSTART:20251026T010000
END:STANDARD
BEGIN:DAYLIGHT
TZOFFSETFROM:+0100
TZOFFSETTO:+0200
TZNAME:CEST
DTSTART:20260329T010000
END:DAYLIGHT
BEGIN:STANDARD
TZOFFSETFROM:+0200
TZOFFSETTO:+0100
TZNAME:CET
DTSTART:20261025T010000
END:STANDARD
END:VTIMEZONE
BEGIN:VEVENT
DTSTART;TZID=Europe/Amsterdam:20250503T113000
DTEND;TZID=Europe/Amsterdam:20250503T183000
DTSTAMP:20260420T053052
CREATED:20240804T102249Z
LAST-MODIFIED:20250501T065943Z
UID:10000856-1746271800-1746297000@wwvwinterswijk.nl
SUMMARY:Vervallen- WS Twente 2025 limiet lb
DESCRIPTION:Helaas wegens problemen met het zwembad is ook deze limietwedstrijd afgelast.\nVoor wie: zwemselectie max 10 zwemmers op basis van NK/GK limieten.\nKosten: 4 euro – gepast betalen\nVertrek: 11:30 uur\nInzwemmen & juryvergadering: 12:45 uur\nStart wedstrijd: 13:30 uur\nTrainer(s): Bryan\nPloegleider: nvt\nOfficials: Erwin\, Wilfried\nVervoer: Bryan\, Manou \nLive Timing n.n.b.\n \nUitslagen WWV n.n.b.\n \nUitslagen n.n.b.\n \nStartlijst n.n.b. \nDefinitieve inschrijving \nProgramma \nAanmelden alleen als je een serieuze kans heb op een GK of NK limiet\, bij meer dan 10 aangemelde zwemmers beslissen de hoofdtrainers wie er gaan.\nLimieten GK\nLimieten NK \nAanmelden uiterlijk maandag 14 april 20:00 uur\nAanmelden hier \nAfmelden uiterlijk vrijdag 18 april 20:00 uur\nAfmelden hier \nInschrijving verstuurd donderdag 17 april 2025 20:50 uur \nKNZB Webkalender n.n.b.
URL:https://wwvwinterswijk.nl/activiteit/ws-twente-2025-limiet-lb-2/
LOCATION:Twentebad – Hengelo\, Lage Weide 3-5\, Hengelo\, Overijssel\, 7556NA\, Nederland
CATEGORIES:Zwemwedstrijden
END:VEVENT
BEGIN:VEVENT
DTSTART;TZID=Europe/Amsterdam:20250504T000000
DTEND;TZID=Europe/Amsterdam:20250504T000000
DTSTAMP:20260420T053052
CREATED:20240804T102250Z
LAST-MODIFIED:20250312T102503Z
UID:10000857-1746316800-1746316800@wwvwinterswijk.nl
SUMMARY:Vervallen - WS Twente 2025 A limiet lb
DESCRIPTION:Vervallen\nWS Twente heeft besloten deze wedstrijd niet te organiseren
URL:https://wwvwinterswijk.nl/activiteit/ws-twente-2025-a-limiet-lb-2/
LOCATION:Twentebad – Hengelo\, Lage Weide 3-5\, Hengelo\, Overijssel\, 7556NA\, Nederland
CATEGORIES:Zwemwedstrijden
END:VEVENT
BEGIN:VEVENT
DTSTART;TZID=Europe/Amsterdam:20250508T123000
DTEND;TZID=Europe/Amsterdam:20250511T183000
DTSTAMP:20260420T053052
CREATED:20240802T124732Z
LAST-MODIFIED:20250530T093754Z
UID:10000844-1746707400-1746988200@wwvwinterswijk.nl
SUMMARY:ONMK 2025 lange baan - Drachten
DESCRIPTION:Kijk voor alle informatie op https://mastersprint.nl/onmk2025lb \nUitslagen WWV \nAanmelden uiterlijk maandag 14 april 22:00 uur\nAanmelden hier \nLive Timing \nInschrijving verstuurd woensdag 16-4-2025 09:44uur
URL:https://wwvwinterswijk.nl/activiteit/onmk-2025-lange-baan-drachten/
LOCATION:Zwemcentrum De Welle – Drachten\, Sportlaan 8A\, Drachten\, Friesland\, 9203 NW\, Nederland
CATEGORIES:Masterswedstrijden,Zwemwedstrijden
ATTACH;FMTTYPE=image/jpeg:https://wwvwinterswijk.nl/wp-content/uploads/2024/08/Mastersprint_website_blog-ONMK2025lb_KJ91238_20250511_134551_Bedankt.jpg
END:VEVENT
BEGIN:VEVENT
DTSTART;TZID=Europe/Amsterdam:20250517T110000
DTEND;TZID=Europe/Amsterdam:20250518T190000
DTSTAMP:20260420T053052
CREATED:20240804T102250Z
LAST-MODIFIED:20250526T082704Z
UID:10000858-1747479600-1747594800@wwvwinterswijk.nl
SUMMARY:GK A 2025 lb deel 1
DESCRIPTION:Voor wie: zwemselectie met een GK limiet(en).\nKosten: 6 euro – gepast betalen\nVertrek: 11.45 uur\nZwembad: Sportfondsenbad West\nJuryvergadering: 13.15 uur\nInzwemmen: 13.15 – 13.50 uur\nAanvang wedstrijd: 14.00 uur\nTrainer(s): Bryan\nPloegleider: nvt\nOfficials: zaterdag -\, zondag Simone (res)\nVervoer: zaterdag: Bryan / zondag: Simone \nLive Timing \nUitslagen WWV \nUitslagen \nDefinitieve inschrijving \nProgramma \nBehaalde limieten WWV \nAanmelden hier \nLimieten GK\nLimieten NK \nAfmelden uiterlijk zondag 4 mei 20:00 uur\nAfmelden hier \nInschrijving verstuurd 4 mei 2025 19:50uur \nKNZB Webkalender
URL:https://wwvwinterswijk.nl/activiteit/gk-a-2025-lb-deel-1/
LOCATION:Sportfondsenbad Nijmegen-West\, Planetenstraat 65\, Nijmegen\, Gelderland\, 6543 VW\, Nederland
CATEGORIES:Zwemwedstrijden
END:VEVENT
BEGIN:VEVENT
DTSTART;TZID=Europe/Amsterdam:20250524T110000
DTEND;TZID=Europe/Amsterdam:20250525T190000
DTSTAMP:20260420T053052
CREATED:20240804T102250Z
LAST-MODIFIED:20250526T082722Z
UID:10000859-1748084400-1748199600@wwvwinterswijk.nl
SUMMARY:GK A 2025 lb deel 2
DESCRIPTION:Voor wie: zwemselectie met een GK limiet(en).\nKosten: 6 euro – gepast betalen\nVertrek: 11.45 uur\nZwembad: Sportfondsenbad West\nJuryvergadering: 13.15 uur\nInzwemmen: 13.15 – 13.50 uur\nAanvang wedstrijd: 14.00 uur\nTrainer(s): Bryan\nPloegleider: nvt\nOfficials: zaterdag Erwin\, zondag –\nVervoer: zaterdag /zondag Bryan \nLive Timing \nUitslagen WWV \nUitslagen \nDefinitieve inschrijving \nProgramma \nBehaalde limieten WWV \nAanmelden hier \nLimieten GK\nLimieten NK \nAfmelden uiterlijk zondag 4 mei 20:00 uur\nAfmelden hier \nInschrijving verstuurd 4 mei 2025 19:50uur \nKNZB Webkalender
URL:https://wwvwinterswijk.nl/activiteit/gk-a-2025-lb-deel-2/
LOCATION:Sportfondsenbad Nijmegen-West\, Planetenstraat 65\, Nijmegen\, Gelderland\, 6543 VW\, Nederland
CATEGORIES:Zwemwedstrijden
END:VEVENT
BEGIN:VEVENT
DTSTART;TZID=Europe/Amsterdam:20250531T133000
DTEND;TZID=Europe/Amsterdam:20250531T170000
DTSTAMP:20260420T053052
CREATED:20240802T124732Z
LAST-MODIFIED:20250330T133006Z
UID:10000845-1748698200-1748710800@wwvwinterswijk.nl
SUMMARY:WSK 2025 VERVALLEN i.v.m. Renovatie Zwembad
DESCRIPTION:VERVALLEN i.v.m. Renovatie Zwembad\nVoor wie: zwemselectie\, instroom in overleg met trainer\nAanwezig: 13:00 uur\nInzwemmen & juryvergadering: 13:30 uur\nStart wedstrijd: 14:00 uur\nTrainer(s):\nPloegleider: Manou\nOfficials: Anneke\, Daniëlle\, Erwin\, Simone\, Wendy\, Wilfried\nVrijwilligers: Elin (k)\, Iris (c)\, Jill (k)\, Pixie-Li (s/vs)\, Sven (k)\, .. \nwww.wwvwinterswijk.nl/live
URL:https://wwvwinterswijk.nl/activiteit/wsk-2025/
LOCATION:Zwembad Jaspers\, Jaspersweg 3\, Winterswijk\, Gelderland\, 7103AV\, Nederland
CATEGORIES:Masterswedstrijden,Zwemwedstrijden
ATTACH;FMTTYPE=image/jpeg:https://wwvwinterswijk.nl/wp-content/uploads/2024/08/WWV_website_blog-WSK20250531.jpg
ORGANIZER;CN="WWV Winterswijk":MAILTO:wedstrijdzwemmen@wwvwinterswijk.nl
END:VEVENT
END:VCALENDAR