BEGIN:VCALENDAR
VERSION:2.0
PRODID:-//WWV Winterswijk - ECPv6.15.20//NONSGML v1.0//EN
CALSCALE:GREGORIAN
METHOD:PUBLISH
X-ORIGINAL-URL:https://wwvwinterswijk.nl
X-WR-CALDESC:Evenementen voor WWV Winterswijk
REFRESH-INTERVAL;VALUE=DURATION:PT1H
X-Robots-Tag:noindex
X-PUBLISHED-TTL:PT1H
BEGIN:VTIMEZONE
TZID:Europe/Amsterdam
BEGIN:DAYLIGHT
TZOFFSETFROM:+0100
TZOFFSETTO:+0200
TZNAME:CEST
DTSTART:20240331T010000
END:DAYLIGHT
BEGIN:STANDARD
TZOFFSETFROM:+0200
TZOFFSETTO:+0100
TZNAME:CET
DTSTART:20241027T010000
END:STANDARD
BEGIN:DAYLIGHT
TZOFFSETFROM:+0100
TZOFFSETTO:+0200
TZNAME:CEST
DTSTART:20250330T010000
END:DAYLIGHT
BEGIN:STANDARD
TZOFFSETFROM:+0200
TZOFFSETTO:+0100
TZNAME:CET
DTSTART:20251026T010000
END:STANDARD
BEGIN:DAYLIGHT
TZOFFSETFROM:+0100
TZOFFSETTO:+0200
TZNAME:CEST
DTSTART:20260329T010000
END:DAYLIGHT
BEGIN:STANDARD
TZOFFSETFROM:+0200
TZOFFSETTO:+0100
TZNAME:CET
DTSTART:20261025T010000
END:STANDARD
END:VTIMEZONE
BEGIN:VEVENT
DTSTART;TZID=Europe/Amsterdam:20250111T133000
DTEND;TZID=Europe/Amsterdam:20250111T180000
DTSTAMP:20260422T103221
CREATED:20240802T124716Z
LAST-MODIFIED:20250112T091711Z
UID:10000834-1736602200-1736618400@wwvwinterswijk.nl
SUMMARY:Zwemcompetitie 24/25 deel 2
DESCRIPTION:Voor wie: zwemselectie.\nKosten: 4 euro – gepast betalen\nVertrek: 12:15 uur\nInzwemmen & juryvergadering: 13:30 uur\nStart wedstrijd: 14:00 uur\nTrainer(s): Bryan\nPloegleider: Manou\nOfficials: Erwin\, Simone\, Wilfried\nVervoer: Daniël\, Luc\, Luuk J\, Manou\, Rolf\, Roos \nKNZB Zwemcompetitie 2024-2025 – Standen \nUitslag WWV\nUitslag \nLive Timing \nStartlijst \nDefinitieve inschrijving \nAfmelden uiterlijk vrijdag 3 januari 20:00 uur \nInschrijving verstuurd 5 januari 16:11 uur
URL:https://wwvwinterswijk.nl/activiteit/zwemcompetitie-24-25-deel-2/
LOCATION:Twentebad – Hengelo\, Lage Weide 3-5\, Hengelo\, Overijssel\, 7556NA\, Nederland
CATEGORIES:Zwemwedstrijden
END:VEVENT
BEGIN:VEVENT
DTSTART;TZID=Europe/Amsterdam:20250118T133000
DTEND;TZID=Europe/Amsterdam:20250118T170000
DTSTAMP:20260422T103221
CREATED:20240802T124716Z
LAST-MODIFIED:20241113T112357Z
UID:10000835-1737207000-1737219600@wwvwinterswijk.nl
SUMMARY:Vervallen - WWV Sneeuwvlok in Winterswijk 2025
DESCRIPTION:Vervallen\nVoor wie: zwemselectie & Masters\, instroom in overleg met trainer\nAlle zwemmers van 12 jaar en jonger zijn ingeschreven in de medaille programma nummers. Zij kunnen i.o.m. hun trainer ook nog voor andere afstanden kiezen. Alle andere zwemmers hebben een vrije keuze\, welke door de trainers aangepast kan worden. Geen keuze gemaakt\, dan bepalen de trainers wat je gaat zwemmen.\nMasters kunnen inschrijven i.o.m. Kees-Jan.\nSluiting inschrijving WWV:\nAanwezig: 13:00 uur\nInzwemmen & juryvergadering: 13:30 uur\nStart wedstrijd: 14:00 uur\nTrainer(s):\nPloegleider: Manou\nOfficials:\nVrijwilligers: Eva\, Iris (c)\, Jill\, Lieke (vs)\, Luc (s)\, Sven
URL:https://wwvwinterswijk.nl/activiteit/wwv-sneeuwvlok-in-winterswijk-2025/
LOCATION:Zwembad Jaspers\, Jaspersweg 3\, Winterswijk\, Gelderland\, 7103AV\, Nederland
CATEGORIES:Masterswedstrijden,Zwemwedstrijden
ORGANIZER;CN="WWV Winterswijk":MAILTO:wedstrijdzwemmen@wwvwinterswijk.nl
END:VEVENT
BEGIN:VEVENT
DTSTART;TZID=Europe/Amsterdam:20250126T143000
DTEND;TZID=Europe/Amsterdam:20250126T190000
DTSTAMP:20260422T103221
CREATED:20240802T124720Z
LAST-MODIFIED:20250128T152157Z
UID:10000836-1737901800-1737918000@wwvwinterswijk.nl
SUMMARY:EZC 24/25 deel 3
DESCRIPTION:Voor wie: Zwemselectie\nVertrek: 13.15 uur\nInzwemmen & juryvergadering: 14:30 uur\nStart wedstrijd: 15:00 uur\nTrainer(s): Bryan & Hetty\nPloegleider: Eva\nOfficials: Anneke\, Daniëlle\, Simone\nVervoer: Aymé\, Caitlyn\, Eva\, Kees-Jan\, Lisa\, Phileine\, Roos \nUitslag WWV\nUitslag \nStartlijst \nDefinitieve inschrijving \nAfmelden uiterlijk vrijdag 17 januari 20:00 uur \nVerzonden zondag 19 januari 11:37uur \nAfmelden en wijzigingen hier\nKNZB Webkalender
URL:https://wwvwinterswijk.nl/activiteit/ezc-24-25-deel-3/
LOCATION:Zwembad Den Helder – Doesburg\, Den Helder 1\, Doesburg\, Gelderland\, 6982 DT \, Nederland
CATEGORIES:Zwemwedstrijden
END:VEVENT
END:VCALENDAR