BEGIN:VCALENDAR
VERSION:2.0
PRODID:-//WWV Winterswijk - ECPv6.15.20//NONSGML v1.0//EN
CALSCALE:GREGORIAN
METHOD:PUBLISH
X-WR-CALNAME:WWV Winterswijk
X-ORIGINAL-URL:https://wwvwinterswijk.nl
X-WR-CALDESC:Evenementen voor WWV Winterswijk
REFRESH-INTERVAL;VALUE=DURATION:PT1H
X-Robots-Tag:noindex
X-PUBLISHED-TTL:PT1H
BEGIN:VTIMEZONE
TZID:Europe/Amsterdam
BEGIN:DAYLIGHT
TZOFFSETFROM:+0100
TZOFFSETTO:+0200
TZNAME:CEST
DTSTART:20230326T010000
END:DAYLIGHT
BEGIN:STANDARD
TZOFFSETFROM:+0200
TZOFFSETTO:+0100
TZNAME:CET
DTSTART:20231029T010000
END:STANDARD
BEGIN:DAYLIGHT
TZOFFSETFROM:+0100
TZOFFSETTO:+0200
TZNAME:CEST
DTSTART:20240331T010000
END:DAYLIGHT
BEGIN:STANDARD
TZOFFSETFROM:+0200
TZOFFSETTO:+0100
TZNAME:CET
DTSTART:20241027T010000
END:STANDARD
BEGIN:DAYLIGHT
TZOFFSETFROM:+0100
TZOFFSETTO:+0200
TZNAME:CEST
DTSTART:20250330T010000
END:DAYLIGHT
BEGIN:STANDARD
TZOFFSETFROM:+0200
TZOFFSETTO:+0100
TZNAME:CET
DTSTART:20251026T010000
END:STANDARD
END:VTIMEZONE
BEGIN:VEVENT
DTSTART;TZID=Europe/Amsterdam:20241103T130000
DTEND;TZID=Europe/Amsterdam:20241103T170000
DTSTAMP:20260424T190343
CREATED:20240802T124633Z
LAST-MODIFIED:20241103T172236Z
UID:10000824-1730638800-1730653200@wwvwinterswijk.nl
SUMMARY:Dolfijnwedstrijd 24/25 deel 1
DESCRIPTION:Voor wie: Basiszwemmen en Instroomselectie \nVertrek: 13:00 uur\nInzwemmen: 13:30 uur\nStart wedstrijd: 14:00 uur\nTrainer(s): Pien\nPloegleider: Mariëlle\nKlokkers: Manon & Kevin \nUitslag WWV\nUitslag totaal \nStartlijst \nDefinitieve inschrijving\nVerzonden 26 oktober 2024 13:24uur
URL:https://wwvwinterswijk.nl/activiteit/dolfijnwedstrijd-24-25-deel-1/
LOCATION:Zwembad ’t Meekenesch – Lichtenvoorde\, Kerkhoflaan 5\, Lichtenvoorde\, Gelderland\, 7131TE\, Nederland
CATEGORIES:Basiszwemwedstrijd,Zwemwedstrijden
ATTACH;FMTTYPE=image/jpeg:https://wwvwinterswijk.nl/wp-content/uploads/2024/08/WWV_website_blog-20241103_165547_20241103_165548.jpg
END:VEVENT
BEGIN:VEVENT
DTSTART;TZID=Europe/Amsterdam:20241103T161500
DTEND;TZID=Europe/Amsterdam:20241103T190000
DTSTAMP:20260424T190343
CREATED:20240802T124633Z
LAST-MODIFIED:20241104T135837Z
UID:10000825-1730650500-1730660400@wwvwinterswijk.nl
SUMMARY:Paddenstoelentoernooi 2024
DESCRIPTION:Voor wie: zwemselectie\, instroom gaat naar Dolfijnwedstrijd\nKosten: 4 euro – gepast betalen\nVertrek: 15.15 uur\nInzwemmen & juryvergadering: 16:15 uur\nStart wedstrijd: 16:45 uur\nTrainer(s): Bryan\nPloegleider: Tessa/Thirza\nOfficials: Anneke\, Danielle\, Simone\nVervoer: Lisa\, Roos\, Tessa\, Thirza \nDeelnemers kunnen zich inschrijven per jaargang voor 3 sprintafstanden; de winnaar van elke sprintafstand krijgt 1 punt\, de nummer 2 2 punten\, enz. De zwemmer met de minste punten wordt winnaar van het klassement per jaargang. Elke zwemmer moet dus 3 afstanden zwemmen om in aanmerking te kunnen komen voor een medaille. \nUitslag WWV\nUitslag totaal \nDefinitieve startlijst WWV gemarkeerd \nDefinitieve inschrijving\nVerstuurd 23 oktober 2024 – 11:12uur \nIets anders zwemmen of er klopt iets niet? Meld het ons hier voor dinsdagavond 22 oktober 20uur \nAfmelden hier \nPloegleiderslijst vervoer en zwemmers \nProgramma\n1 50m vrij d 2012\, 2011\, 2010\, 2009\, 2008\, 2007\, 2006\, vanaf 19 jaar\n2 50m vrij h 2012\, 2011\, 2010\, 2009\, 2008\, 2007\, 2006\, vanaf 19 jaar\n3 50m vrij d 2013\, 2014\, 2015\n4 50m vrij h 2013\, 2014\, 2015\n5 50m school d 2012\, 2011\, 2010\, 2009\, 2008\, 2007\, 2006\, vanaf 19 jaar\n6 50m school h 2012\, 2011\, 2010\, 2009\, 2008\, 2007\, 2006\, vanaf 19 jaar\n7 50m school d 2013\, 2014\, 2015\n8 50m school h 2013\, 2014\, 2015\n9 50m rug d 2012\, 2011\, 2010\, 2009\, 2008\, 2007\, 2006\, vanaf 19 jaar\n10 50m rug h 2012\, 2011\, 2010\, 2009\, 2008\, 2007\, 2006\, vanaf 19 jaar\n11 50m rug d 2013\, 2014\, 2015\n2 50m rug h 2013\, 2014\, 2015\n13 50m vlinder d 2012\, 2011\, 2010\, 2009\, 2008\, 2007\, 2006\, vanaf 19 jaar\n14 50m vlinder h 2012\, 2011\, 2010\, 2009\, 2008\, 2007\, 2006\, vanaf 19 jaar\n15 50m vlinder d 2013\, 2014\, 2015\n16 50m vlinder h 2013\, 2014\, 2015
URL:https://wwvwinterswijk.nl/activiteit/paddenstoelentoernooi-2024/
LOCATION:Zwembad Rozengaarde – Doetinchem\, Bezelhorstweg 115\, Doetinchem\, Gelderland\, 7002CC\, Nederland
CATEGORIES:Zwemwedstrijden
END:VEVENT
BEGIN:VEVENT
DTSTART;TZID=Europe/Amsterdam:20241109T133000
DTEND;TZID=Europe/Amsterdam:20241110T180000
DTSTAMP:20260424T190343
CREATED:20240802T124648Z
LAST-MODIFIED:20241111T084221Z
UID:10000827-1731159000-1731261600@wwvwinterswijk.nl
SUMMARY:GK A 2024 kb deel 1
DESCRIPTION:Voor wie: iedereen met een limiet\nKosten: 6 euro – gepast betalen \nZaterdag 9 november \n\nVertrek: 11.45 uur\nInzwemmen & juryvergadering: 13:45 uur\nStart wedstrijd: 14:30 uur\nTrainer(s): Bryan\nPloegleider: –\nVervoer: Bryan\, Manou\n\nZondag 10 november \n\nVertrek: 12.45 uur\nInzwemmen & juryvergadering: 14:45 uur\nStart wedstrijd: 15:30 uur\nTrainer(s): Bryan\nPloegleider: –\nVervoer: Femke\, Roos\n\nOfficials:\nzondag 10 november – Simone\nzaterdag 16 november – Erwin \nUitslag WWV\nUitslagen \nMedaille statistieken\nMedaille winnaars per programmanr. \nAcceptatie lijst \nSluiting afmelden vrijdag 25 oktober 2024 17:00uur via Email \nDefinitieve inschrijving\nVerstuurd 25 oktober 2024 17:36uur \nBehaalde Limieten WWV \nLimieten\nLive Timing\nMeer informatie hier. \nLaatste info GK kb: \n\nZaterdag begint de wedstrijd om 14:30 uur\, zondag beginnen we een uur later: om 15:30 uur\, inzwemmen en juryvergadering 3 kwartier voor aanvang wedstrijd.\n\nDe deuren van het zwembad gaan uiterlijk een kwartier voor aanvang van het inzwemmen open. Tot die tijd kan er buiten gewacht worden.\nDe startlijsten worden alleen voor de officials geprint. Ook is er geen programmaverkoop voor het publiek. De startlijsten worden vrijdagavond na verwerking van de laatste afmeldingen gepubliceerd op de livetiming van KNZB Regio Oost\nWanneer verenigingen een of meer geprinte exemplaren willen\, kan dit tot morgenavond 19:00 uur aangevraagd worden. De ploegleiders ontvangen de startlijsten bij aanmelding.\nVoor de rugslagnummers kan gebruik gemaakt worden van rugslagstartvoetsteunen. Tijdens het inzwemmen zal omgeroepen worden vanaf welk tijdstip en op welke banen hiermee geoefend kan worden en welke banen als sprintbaan gebruikt worden.\nDe ploegleiders wordt verzocht erop toe te zien dat er geen tassen\, handdoeken of kleding op de ventilatieroosters worden gelegd\, zodat de temperatuur niet onnodig hoog oploopt.\nVoor elk programmanummer worden per leeftijdscategorie snelste series ingedeeld. Uitzondering hierop zijn de estafettenummers 101\, 100\, 201 en 210. Alle geschreven teams zwemmen samen in een serie. De 200m vlinderslag is in zijn geheel op tijd ingedeeld om de zwemmers de best mogelijke tegenstand te geven. Verder kunnen leeftijdsfinales samengevoegd worden. Dit staat dan in de kop van het programmanummer vermeld.\nReserveofficials kunnen tot 21:00 de dag voor de wedstrijd opgeroepen worden.\n\nIedereen wordt verzocht de zwemzaal\, douches en kleedkamers netjes achter te laten.\nDe wedstrijd is online te volgen via SplashMe en de livetiming van KNZB Regio Oost.
URL:https://wwvwinterswijk.nl/activiteit/gk-a-2024-kb-deel-1/
LOCATION:Erica Terpstra Sportfondsenbad – Nijmegen\, Kwakkenbergweg 25\, Nijmegen\, Gelderland\, 6523MJ\, Nederland
CATEGORIES:Zwemwedstrijden
END:VEVENT
BEGIN:VEVENT
DTSTART;TZID=Europe/Amsterdam:20241116T133000
DTEND;TZID=Europe/Amsterdam:20241117T180000
DTSTAMP:20260424T190343
CREATED:20240802T124648Z
LAST-MODIFIED:20241111T084359Z
UID:10000828-1731763800-1731866400@wwvwinterswijk.nl
SUMMARY:GK A 2024 kb deel 2
DESCRIPTION:Voor wie: iedereen met een limiet\nKosten: 6 euro – gepast betalen \nZaterdag 16 november \n\nVertrek: 12.00 uur\nInzwemmen & juryvergadering: 13:45 uur\nStart wedstrijd: 14:30 uur\nTrainer(s): Bryan\nPloegleider: –\nVervoer: Bryan\, Pixie-Li\n\nZondag 17 november \n\nVertrek: 12.00 uur\nInzwemmen & juryvergadering: 13:45 uur\nStart wedstrijd: 14:30 uur\nTrainer(s): Bryan\nPloegleider: –\nVervoer: Iris\, Manou\n\nOfficials:\nzondag 10 november – Simone\nzaterdag 16 november – Erwin \nUitslag WWV\nUitslagen \nMedaille statistieken\nMedaille winnaars per programmanr. \nAcceptatie lijst \nSluiting afmelden vrijdag 25 oktober 2024 17:00uur via Email \nDefinitieve inschrijving\nVerstuurd 25 oktober 2024 17:36uur \nBehaalde Limieten WWV \nLimieten\nLive Timing\nMeer informatie hier. \nLaatste info GK kb: \n\nZaterdag begint de wedstrijd om 14:30 uur\, zondag beginnen we een uur later: om 15:30 uur\, inzwemmen en juryvergadering 3 kwartier voor aanvang wedstrijd.\n\nDe deuren van het zwembad gaan uiterlijk een kwartier voor aanvang van het inzwemmen open. Tot die tijd kan er buiten gewacht worden.\nDe startlijsten worden alleen voor de officials geprint. Ook is er geen programmaverkoop voor het publiek. De startlijsten worden vrijdagavond na verwerking van de laatste afmeldingen gepubliceerd op de livetiming van KNZB Regio Oost\nWanneer verenigingen een of meer geprinte exemplaren willen\, kan dit tot morgenavond 19:00 uur aangevraagd worden. De ploegleiders ontvangen de startlijsten bij aanmelding.\nVoor de rugslagnummers kan gebruik gemaakt worden van rugslagstartvoetsteunen. Tijdens het inzwemmen zal omgeroepen worden vanaf welk tijdstip en op welke banen hiermee geoefend kan worden en welke banen als sprintbaan gebruikt worden.\nDe ploegleiders wordt verzocht erop toe te zien dat er geen tassen\, handdoeken of kleding op de ventilatieroosters worden gelegd\, zodat de temperatuur niet onnodig hoog oploopt.\nVoor elk programmanummer worden per leeftijdscategorie snelste series ingedeeld. Uitzondering hierop zijn de estafettenummers 101\, 100\, 201 en 210. Alle geschreven teams zwemmen samen in een serie. De 200m vlinderslag is in zijn geheel op tijd ingedeeld om de zwemmers de best mogelijke tegenstand te geven. Verder kunnen leeftijdsfinales samengevoegd worden. Dit staat dan in de kop van het programmanummer vermeld.\nReserveofficials kunnen tot 21:00 de dag voor de wedstrijd opgeroepen worden.\n\nIedereen wordt verzocht de zwemzaal\, douches en kleedkamers netjes achter te laten.\nDe wedstrijd is online te volgen via SplashMe en de livetiming van KNZB Regio Oost.
URL:https://wwvwinterswijk.nl/activiteit/gk-a-2024-kb-deel-2/
LOCATION:Erica Terpstra Sportfondsenbad – Nijmegen\, Kwakkenbergweg 25\, Nijmegen\, Gelderland\, 6523MJ\, Nederland
CATEGORIES:Zwemwedstrijden
END:VEVENT
BEGIN:VEVENT
DTSTART;TZID=Europe/Amsterdam:20241121T123000
DTEND;TZID=Europe/Amsterdam:20241124T183000
DTSTAMP:20260424T190343
CREATED:20240802T124648Z
LAST-MODIFIED:20241125T141233Z
UID:10000829-1732192200-1732473000@wwvwinterswijk.nl
SUMMARY:ONMK 2024 korte baan – Den Haag
DESCRIPTION:Belangrijkste inschrijfvoorwaarden: \n\nPer persoon mag men zich opgeven voor maximaal 2 persoonlijke starts per sessie.\nInschrijftijden dienen controleerbaar te zijn vanaf 1 februari 2023.\n\nOpgeven voor maandag 21 oktober bij Kees-Jan \nDefinitieve inschrijving\nInschrijving verstuurd dinsdag 22 oktober 16:05uur \nUitslagen: \n\nWWV\nTotaal\n\nMeer informatie hier – https://mastersprint.nl/onmk2024kb
URL:https://wwvwinterswijk.nl/activiteit/onmk-2024-korte-baan-den-haag/
LOCATION:Zwembad het Hofbad – Den Haag\, Ypenburgse Boslaan 30\, Den Haag\, 2496 ZA\, Nederland
CATEGORIES:Masterswedstrijden,Zwemwedstrijden
ATTACH;FMTTYPE=image/png:https://wwvwinterswijk.nl/wp-content/uploads/2024/08/ONMK-masters-kb-DH-2024-def.png
ORGANIZER;CN="KNZB Masters":MAILTO:masters@knzb.nl
END:VEVENT
BEGIN:VEVENT
DTSTART;TZID=Europe/Amsterdam:20241130T133000
DTEND;TZID=Europe/Amsterdam:20241201T180000
DTSTAMP:20260424T190343
CREATED:20240802T124648Z
LAST-MODIFIED:20241120T120430Z
UID:10000830-1732973400-1733076000@wwvwinterswijk.nl
SUMMARY:Vervallen - GK B 2024 kb
DESCRIPTION:Vervallen\nVoor wie: iedereen met een B limiet die geen A limiet heeft\nKosten: 4 euro – gepast betalen\nVertrek: n.n.b.\nInzwemmen & juryvergadering: n.n.b.\nStart wedstrijd: n.n.b.\nTrainer(s): n.n.b.\nPloegleider: n.n.b.\nOfficials: n.n.b. \nMeer informatie hier.
URL:https://wwvwinterswijk.nl/activiteit/gk-b-2024-kb/
LOCATION:De IJsselslag – Zutphen\, Laan naar Eme 101\, Zutphen\, Gelderland\, 7204 LZ\, Nederland
CATEGORIES:Zwemwedstrijden
END:VEVENT
END:VCALENDAR