BEGIN:VCALENDAR
VERSION:2.0
PRODID:-//WWV Winterswijk - ECPv6.15.20//NONSGML v1.0//EN
CALSCALE:GREGORIAN
METHOD:PUBLISH
X-WR-CALNAME:WWV Winterswijk
X-ORIGINAL-URL:https://wwvwinterswijk.nl
X-WR-CALDESC:Evenementen voor WWV Winterswijk
REFRESH-INTERVAL;VALUE=DURATION:PT1H
X-Robots-Tag:noindex
X-PUBLISHED-TTL:PT1H
BEGIN:VTIMEZONE
TZID:Europe/Amsterdam
BEGIN:DAYLIGHT
TZOFFSETFROM:+0100
TZOFFSETTO:+0200
TZNAME:CEST
DTSTART:20230326T010000
END:DAYLIGHT
BEGIN:STANDARD
TZOFFSETFROM:+0200
TZOFFSETTO:+0100
TZNAME:CET
DTSTART:20231029T010000
END:STANDARD
BEGIN:DAYLIGHT
TZOFFSETFROM:+0100
TZOFFSETTO:+0200
TZNAME:CEST
DTSTART:20240331T010000
END:DAYLIGHT
BEGIN:STANDARD
TZOFFSETFROM:+0200
TZOFFSETTO:+0100
TZNAME:CET
DTSTART:20241027T010000
END:STANDARD
BEGIN:DAYLIGHT
TZOFFSETFROM:+0100
TZOFFSETTO:+0200
TZNAME:CEST
DTSTART:20250330T010000
END:DAYLIGHT
BEGIN:STANDARD
TZOFFSETFROM:+0200
TZOFFSETTO:+0100
TZNAME:CET
DTSTART:20251026T010000
END:STANDARD
END:VTIMEZONE
BEGIN:VEVENT
DTSTART;TZID=Europe/Amsterdam:20241005T120000
DTEND;TZID=Europe/Amsterdam:20241005T170000
DTSTAMP:20260424T201404
CREATED:20240802T124632Z
LAST-MODIFIED:20241011T111553Z
UID:10000820-1728129600-1728147600@wwvwinterswijk.nl
SUMMARY:Zwemcompetitie 24/25 deel 1
DESCRIPTION:Voor wie: zwemselectie.\nKosten: 5 euro – gepast betalen\nVertrek: 10:30 uur\nInzwemmen & juryvergadering: 12:00 uur\nStart wedstrijd: 12:30 uur\nTrainer(s): Bryan & Kees-Jan\nPloegleider: Eva\nOfficials: Erwin\, Simone\, Wendy\, Wilfried\nVervoer: Caitlyn\, Eva\, Kees-Jan\, Pixie-Li\, Roos\, Yvette \nUitslag WWV\nUitslag totaal \nKNZB Zwemcompetitie 2024-2025 – Standen \nLive Timing\nStartlijst \nDefinitieve inschrijving Verstuurd 24 september 20:30uur\nWijziging verstuurd 28 september 15:00uur\nAfmelden hier\nKNZB Webkalender \nProgramma\n2. Jongens\, 4 x 100m vrije slag 11 – 15 jaar\n5. Jongens\, 100m wisselslag 11 – 17 jaar\n6. Meisjes\, 100m wisselslag 11 – 17 jaar\n8. Jongens\, 100m rugslag 11 – 13 jaar\n10. Meisjes\, 100m rugslag 11 – 13 jaar\n11. Heren\, 400m vrije slag Senioren Open\n12. Heren\, 200m vrije slag Senioren Open\n13. Dames\, 400m vrije slag Senioren Open\n14. Dames\, 200m vrije slag Senioren Open\n16. Jongens\, 100m vrije slag 11 – 15 jaar\n18. Meisjes\, 100m vrije slag 11 – 15 jaar\n20. Gemengd\, 4 x 50m wisselslag 11 – 17 jaar\, Gemengd\n22. Jongens\, 50m vlinderslag 11 – 13 jaar\n24. Meisjes\, 50m vlinderslag 11 – 13 jaar\n25. Heren\, 50m rugslag Senioren Open\n26. Dames\, 50m rugslag Senioren Open\n28. Jongens\, 200m vrije slag 11 – 17 jaar\n30. Meisjes\, 200m vrije slag 11 – 17 jaar\n32. Jongens\, 100m schoolslag 11 – 15 jaar\n34. Meisjes\, 100m schoolslag 11 – 15 jaar\n36. Heren\, 4 x 50m wisselslag Senioren Open\n38. Dames\, 4 x 100m vrije slag Senioren Open
URL:https://wwvwinterswijk.nl/activiteit/zwemcompetitie-24-25-deel-1/
LOCATION:Het Ravijn – Nijverdal\, Piet Heinweg 16\, Nijverdal\, 7441GZ\, Nederland
CATEGORIES:Zwemwedstrijden
END:VEVENT
BEGIN:VEVENT
DTSTART;TZID=Europe/Amsterdam:20241012T130000
DTEND;TZID=Europe/Amsterdam:20241012T170000
DTSTAMP:20260424T201404
CREATED:20240802T124633Z
LAST-MODIFIED:20241003T165940Z
UID:10000821-1728738000-1728752400@wwvwinterswijk.nl
SUMMARY:Splash & Fun 24/25 deel 1 - Vervallen
DESCRIPTION:Vervallen\nVoor wie: Basiszwemmen en Instroomselectie \nAanwezig: 13:00 uur\nInzwemmen: 13:30 uur\nStart wedstrijd: 14:00 uur\nTrainer(s):\nPloegleider:\nKlokkers:\nVrijwilligers:
URL:https://wwvwinterswijk.nl/activiteit/splash-fun-24-25-deel-1-vervallen/
LOCATION:Zwembad Jaspers\, Jaspersweg 3\, Winterswijk\, Gelderland\, 7103AV\, Nederland
CATEGORIES:Basiszwemwedstrijd,Zwemwedstrijden
ORGANIZER;CN="WWV Winterswijk":MAILTO:wedstrijdzwemmen@wwvwinterswijk.nl
END:VEVENT
BEGIN:VEVENT
DTSTART;TZID=Europe/Amsterdam:20241013T143000
DTEND;TZID=Europe/Amsterdam:20241013T143000
DTSTAMP:20260424T201404
CREATED:20240802T124633Z
LAST-MODIFIED:20241029T091006Z
UID:10000822-1728829800-1728829800@wwvwinterswijk.nl
SUMMARY:EZC 24/25 deel 2
DESCRIPTION:Voor wie: zwemselectie\, instroom alleen in overleg met trainer\nKosten: 4 euro – gepast betalen\nVertrek: 13.15 uur\nInzwemmen & juryvergadering: 14:30 uur\nStart wedstrijd: 15:00 uur\nTrainer(s): Bryan & Manon W.\nPloegleider: Roos\nOfficials: Anneke\, Erwin\, Manon M\, Wilfried\nVervoer: Elin\, Iris\, Lieke\, Michelle\, Roos\, Wessel \nUitslag WWV\nUitslag Totaal \nStartlijst \nDefinitieve inschrijving\nVerstuurd 28 september 16:00uur \nPloegleiderslijst vervoer en zwemmers \nAfmelden hier \nKNZB webkalender
URL:https://wwvwinterswijk.nl/activiteit/ezc-24-25-deel-2/
LOCATION:Zwembad Den Helder – Doesburg\, Den Helder 1\, Doesburg\, Gelderland\, 6982 DT \, Nederland
CATEGORIES:Zwemwedstrijden
END:VEVENT
BEGIN:VEVENT
DTSTART;TZID=Europe/Amsterdam:20241014T193000
DTEND;TZID=Europe/Amsterdam:20241014T203000
DTSTAMP:20260424T201404
CREATED:20240927T120406Z
LAST-MODIFIED:20240928T150402Z
UID:10000990-1728934200-1728937800@wwvwinterswijk.nl
SUMMARY:Informatieavond WWV Wedstrijdzwemmen najaar 2024
DESCRIPTION:Uitnodiging informatieavond WWV Wedstrijdzwemmen 14 oktober 2024 \nBeste WWV zwemmers\, ouders\, verzorgers en vrijwilligers\,\nDe zomerstop is voorbij en het nieuwe seizoen al begonnen.\nWij zwemtrainers zijn tot de conclusie gekomen dat bepaalde zaken anders moeten.\nWij willen dat graag met jullie bespreken en daarom nodigen wij jullie uit voor deze informatieavond.\nZo kunnen we de problemen waar wij tegenaan gelopen zijn oplossen en in de toekomst voorkomen.\nHet is dan ook van groot belang dat jullie zoveel mogelijk aanwezig zijn. \n19:15 uur inloop\n19:30 start\n20:30uur einde \nNamens zwemtrainers Bryan\, Hetty & Kees-Jan \n  \n\n\n\n    \n        \n            \n            \n                Uitnodiging informatieavond WWV Wedstrijdzwemmen 14 oktober 2024\n                 1 bestand(en)  275.68 KB\n            \n            \n                Downloaden
URL:https://wwvwinterswijk.nl/activiteit/informatieavond-wwv-wedstrijdzwemmen-najaar-2024/
LOCATION:WMHC Avanti\, Jaspersweg 11\, Winterswijk\, Gelderland\, 7103 AV\, Nederland
CATEGORIES:Zwemtrainingen,Zwemwedstrijden
ORGANIZER;CN="WWV Winterswijk":MAILTO:wedstrijdzwemmen@wwvwinterswijk.nl
END:VEVENT
BEGIN:VEVENT
DTSTART;TZID=Europe/Amsterdam:20241027T140000
DTEND;TZID=Europe/Amsterdam:20241027T180000
DTSTAMP:20260424T201405
CREATED:20240802T124633Z
LAST-MODIFIED:20241028T103124Z
UID:10000823-1730037600-1730052000@wwvwinterswijk.nl
SUMMARY:GMK 2024
DESCRIPTION:Inschrijven WWV Masters via https://wwvwinterswijk.nl/form-view/12\nSluiting inschrijving dinsdagavond 15 oktober 20uur.\nWijzigingen uiterlijk dinsdagavond 22 oktober 20uur. \nUitslag WWV\nConcept inschrijving \nKijk op https://wwvwinterswijk.nl/gmk voor alle wedstrijdinformatie
URL:https://wwvwinterswijk.nl/activiteit/gmk-2024/
LOCATION:Zwembad Jaspers\, Jaspersweg 3\, Winterswijk\, Gelderland\, 7103AV\, Nederland
CATEGORIES:Masterswedstrijden,Zwemwedstrijden
ATTACH;FMTTYPE=image/jpeg:https://wwvwinterswijk.nl/wp-content/uploads/2024/08/WWV_website_blog-_KJ96411_20241027_135903.jpg
ORGANIZER;CN="WWV Winterswijk":MAILTO:wedstrijdzwemmen@wwvwinterswijk.nl
END:VEVENT
END:VCALENDAR