BEGIN:VCALENDAR
VERSION:2.0
PRODID:-//WWV Winterswijk - ECPv6.15.20//NONSGML v1.0//EN
CALSCALE:GREGORIAN
METHOD:PUBLISH
X-WR-CALNAME:WWV Winterswijk
X-ORIGINAL-URL:https://wwvwinterswijk.nl
X-WR-CALDESC:Evenementen voor WWV Winterswijk
REFRESH-INTERVAL;VALUE=DURATION:PT1H
X-Robots-Tag:noindex
X-PUBLISHED-TTL:PT1H
BEGIN:VTIMEZONE
TZID:Europe/Amsterdam
BEGIN:DAYLIGHT
TZOFFSETFROM:+0100
TZOFFSETTO:+0200
TZNAME:CEST
DTSTART:20240331T010000
END:DAYLIGHT
BEGIN:STANDARD
TZOFFSETFROM:+0200
TZOFFSETTO:+0100
TZNAME:CET
DTSTART:20241027T010000
END:STANDARD
BEGIN:DAYLIGHT
TZOFFSETFROM:+0100
TZOFFSETTO:+0200
TZNAME:CEST
DTSTART:20250330T010000
END:DAYLIGHT
BEGIN:STANDARD
TZOFFSETFROM:+0200
TZOFFSETTO:+0100
TZNAME:CET
DTSTART:20251026T010000
END:STANDARD
BEGIN:DAYLIGHT
TZOFFSETFROM:+0100
TZOFFSETTO:+0200
TZNAME:CEST
DTSTART:20260329T010000
END:DAYLIGHT
BEGIN:STANDARD
TZOFFSETFROM:+0200
TZOFFSETTO:+0100
TZNAME:CET
DTSTART:20261025T010000
END:STANDARD
END:VTIMEZONE
BEGIN:VEVENT
DTSTART;TZID=Europe/Amsterdam:20250127T193000
DTEND;TZID=Europe/Amsterdam:20250127T210000
DTSTAMP:20260419T145105
CREATED:20250102T085013Z
LAST-MODIFIED:20250127T155634Z
UID:10000991-1738006200-1738011600@wwvwinterswijk.nl
SUMMARY:Informatieavond WWV Zwemmen 27 januari 2025
DESCRIPTION:Na de informatieve bijeenkomst op 14 oktober 2024 hebben we bij de zwemclub niet stilgezeten. We hebben de afgelopen tijd hard gewerkt en verschillende zaken verder uitgewerkt.\nGraag nodigen wij jullie uit voor een nieuwe informatieavond. \nWanneer: Maandag 27 januari 2025\nTijd: van 19.30 – 21:30 uur\nLocatie: FC Winterswijk \nDe bijeenkomst is voor iedereen van 15 jaar en ouder. \nDoel van de avond: \n\nGezamenlijk aan de slag om een begin te maken met een nieuw vrijwilligersbeleid om onze vereniging toekomstbestendig te maken.\nMeer duidelijkheid geven over de taken die tijdens de vorige bijeenkomst zijn besproken.\n\nWe hopen op een goede opkomst om samen te werken aan de toekomst van onze mooie vereniging. \nMet vriendelijke groet\,\nJorn & Beau\,\nCoördinatoren vrijwilligersbeleid.
URL:https://wwvwinterswijk.nl/activiteit/informatieavond-wwv-zwemmen-27-januari-2025/
LOCATION:FC Winterswijk\, Jaspersweg 5\, Winterswijk\, Gelderland\, 7103 AV\, Nederland
CATEGORIES:Bijeenkomsten
ORGANIZER;CN="WWV Winterswijk":MAILTO:wedstrijdzwemmen@wwvwinterswijk.nl
END:VEVENT
END:VCALENDAR