BEGIN:VCALENDAR
VERSION:2.0
PRODID:-//WWV Winterswijk - ECPv6.15.20//NONSGML v1.0//EN
CALSCALE:GREGORIAN
METHOD:PUBLISH
X-WR-CALNAME:WWV Winterswijk
X-ORIGINAL-URL:https://wwvwinterswijk.nl
X-WR-CALDESC:Evenementen voor WWV Winterswijk
REFRESH-INTERVAL;VALUE=DURATION:PT1H
X-Robots-Tag:noindex
X-PUBLISHED-TTL:PT1H
BEGIN:VTIMEZONE
TZID:Europe/Amsterdam
BEGIN:DAYLIGHT
TZOFFSETFROM:+0100
TZOFFSETTO:+0200
TZNAME:CEST
DTSTART:20230326T010000
END:DAYLIGHT
BEGIN:STANDARD
TZOFFSETFROM:+0200
TZOFFSETTO:+0100
TZNAME:CET
DTSTART:20231029T010000
END:STANDARD
BEGIN:DAYLIGHT
TZOFFSETFROM:+0100
TZOFFSETTO:+0200
TZNAME:CEST
DTSTART:20240331T010000
END:DAYLIGHT
BEGIN:STANDARD
TZOFFSETFROM:+0200
TZOFFSETTO:+0100
TZNAME:CET
DTSTART:20241027T010000
END:STANDARD
BEGIN:DAYLIGHT
TZOFFSETFROM:+0100
TZOFFSETTO:+0200
TZNAME:CEST
DTSTART:20250330T010000
END:DAYLIGHT
BEGIN:STANDARD
TZOFFSETFROM:+0200
TZOFFSETTO:+0100
TZNAME:CET
DTSTART:20251026T010000
END:STANDARD
END:VTIMEZONE
BEGIN:VEVENT
DTSTART;TZID=Europe/Amsterdam:20240416T200000
DTEND;TZID=Europe/Amsterdam:20240416T223000
DTSTAMP:20260422T114625
CREATED:20240222T123058Z
LAST-MODIFIED:20240321T134337Z
UID:10000597-1713297600-1713306600@wwvwinterswijk.nl
SUMMARY:ALV 2024
DESCRIPTION:Uitnodiging algemene ledenvergadering WWV\nGeachte leden en ouders/verzorgers van (minderjarige) leden\,\nHierbij nodigen wij U uit voor het bijwonen van onze algemene ledenvergadering\, die wordt gehouden op:\nDinsdag 16 april 2024\nKantine WMHC Avanti\, Jaspersweg 11\, 7103 AV Winterswijk\nInloop vanaf 19:30 uur\, aanvang vergadering 20:00 uur\nDe agenda\, notulen\, jaarverslagen etc. kan je hieronder downloaden.\n\n\n\n    \n        \n            \n            \n                2024 ALV bestanden\n                 1 bestand(en)  134.51 KB\n            \n            \n                Downloaden
URL:https://wwvwinterswijk.nl/activiteit/alv-2024/
LOCATION:WMHC Avanti\, Jaspersweg 11\, Winterswijk\, Gelderland\, 7103 AV\, Nederland
CATEGORIES:Bijeenkomsten
ORGANIZER;CN="WWV Winterswijk":MAILTO:wedstrijdzwemmen@wwvwinterswijk.nl
END:VEVENT
END:VCALENDAR