BEGIN:VCALENDAR
VERSION:2.0
PRODID:-//WWV Winterswijk - ECPv6.15.20//NONSGML v1.0//EN
CALSCALE:GREGORIAN
METHOD:PUBLISH
X-WR-CALNAME:WWV Winterswijk
X-ORIGINAL-URL:https://wwvwinterswijk.nl
X-WR-CALDESC:Evenementen voor WWV Winterswijk
REFRESH-INTERVAL;VALUE=DURATION:PT1H
X-Robots-Tag:noindex
X-PUBLISHED-TTL:PT1H
BEGIN:VTIMEZONE
TZID:Europe/Amsterdam
BEGIN:DAYLIGHT
TZOFFSETFROM:+0100
TZOFFSETTO:+0200
TZNAME:CEST
DTSTART:20230326T010000
END:DAYLIGHT
BEGIN:STANDARD
TZOFFSETFROM:+0200
TZOFFSETTO:+0100
TZNAME:CET
DTSTART:20231029T010000
END:STANDARD
BEGIN:DAYLIGHT
TZOFFSETFROM:+0100
TZOFFSETTO:+0200
TZNAME:CEST
DTSTART:20240331T010000
END:DAYLIGHT
BEGIN:STANDARD
TZOFFSETFROM:+0200
TZOFFSETTO:+0100
TZNAME:CET
DTSTART:20241027T010000
END:STANDARD
BEGIN:DAYLIGHT
TZOFFSETFROM:+0100
TZOFFSETTO:+0200
TZNAME:CEST
DTSTART:20250330T010000
END:DAYLIGHT
BEGIN:STANDARD
TZOFFSETFROM:+0200
TZOFFSETTO:+0100
TZNAME:CET
DTSTART:20251026T010000
END:STANDARD
END:VTIMEZONE
BEGIN:VEVENT
DTSTART;TZID=Europe/Amsterdam:20240312T200000
DTEND;TZID=Europe/Amsterdam:20240312T213000
DTSTAMP:20260422T130917
CREATED:20240222T122432Z
LAST-MODIFIED:20240314T102553Z
UID:10000596-1710273600-1710279000@wwvwinterswijk.nl
SUMMARY:Informatieavond WWV Zwemmen 12 maart 2024
DESCRIPTION:https://wwvwinterswijk.nl/12-maart-2024-informatieavond-verantwoord-sporten-hoe-doe-je-dat \n\n\n\n    \n        \n            \n            \n                20240312 Verantwoord Sporten Hoe doe je dat?\n                 1 bestand(en)  2.80 MB\n            \n            \n                Downloaden\n            \n        \n    \n\n\n\n\n\n\n    \n        \n            \n            \n                20240312 Verantwoord Sporten Hoe doe je dat? Fysiotherapeut Jelmer Timpert\n                 1 bestand(en)  2.80 MB\n            \n            \n                Downloaden
URL:https://wwvwinterswijk.nl/activiteit/informatieavond-wwv-zwemmen-12-maart-2024/
LOCATION:FC Winterswijk\, Jaspersweg 5\, Winterswijk\, Gelderland\, 7103 AV\, Nederland
CATEGORIES:Bijeenkomsten
ATTACH;FMTTYPE=image/jpeg:https://wwvwinterswijk.nl/wp-content/uploads/2024/02/WWV_website_blog-_KJ91587_20220806_134354-Edit.jpg
ORGANIZER;CN="WWV Winterswijk":MAILTO:wedstrijdzwemmen@wwvwinterswijk.nl
END:VEVENT
END:VCALENDAR