BEGIN:VCALENDAR
VERSION:2.0
PRODID:-//WWV Winterswijk - ECPv6.15.20//NONSGML v1.0//EN
CALSCALE:GREGORIAN
METHOD:PUBLISH
X-ORIGINAL-URL:https://wwvwinterswijk.nl
X-WR-CALDESC:Evenementen voor WWV Winterswijk
REFRESH-INTERVAL;VALUE=DURATION:PT1H
X-Robots-Tag:noindex
X-PUBLISHED-TTL:PT1H
BEGIN:VTIMEZONE
TZID:Europe/Amsterdam
BEGIN:DAYLIGHT
TZOFFSETFROM:+0100
TZOFFSETTO:+0200
TZNAME:CEST
DTSTART:20220327T010000
END:DAYLIGHT
BEGIN:STANDARD
TZOFFSETFROM:+0200
TZOFFSETTO:+0100
TZNAME:CET
DTSTART:20221030T010000
END:STANDARD
BEGIN:DAYLIGHT
TZOFFSETFROM:+0100
TZOFFSETTO:+0200
TZNAME:CEST
DTSTART:20230326T010000
END:DAYLIGHT
BEGIN:STANDARD
TZOFFSETFROM:+0200
TZOFFSETTO:+0100
TZNAME:CET
DTSTART:20231029T010000
END:STANDARD
BEGIN:DAYLIGHT
TZOFFSETFROM:+0100
TZOFFSETTO:+0200
TZNAME:CEST
DTSTART:20240331T010000
END:DAYLIGHT
BEGIN:STANDARD
TZOFFSETFROM:+0200
TZOFFSETTO:+0100
TZNAME:CET
DTSTART:20241027T010000
END:STANDARD
BEGIN:DAYLIGHT
TZOFFSETFROM:+0100
TZOFFSETTO:+0200
TZNAME:CEST
DTSTART:20250330T010000
END:DAYLIGHT
BEGIN:STANDARD
TZOFFSETFROM:+0200
TZOFFSETTO:+0100
TZNAME:CET
DTSTART:20251026T010000
END:STANDARD
BEGIN:DAYLIGHT
TZOFFSETFROM:+0100
TZOFFSETTO:+0200
TZNAME:CEST
DTSTART:20260329T010000
END:DAYLIGHT
BEGIN:STANDARD
TZOFFSETFROM:+0200
TZOFFSETTO:+0100
TZNAME:CET
DTSTART:20261025T010000
END:STANDARD
BEGIN:DAYLIGHT
TZOFFSETFROM:+0100
TZOFFSETTO:+0200
TZNAME:CEST
DTSTART:20270328T010000
END:DAYLIGHT
BEGIN:STANDARD
TZOFFSETFROM:+0200
TZOFFSETTO:+0100
TZNAME:CET
DTSTART:20271031T010000
END:STANDARD
END:VTIMEZONE
BEGIN:VEVENT
DTSTART;TZID=Europe/Amsterdam:20260419T133000
DTEND;TZID=Europe/Amsterdam:20260419T170000
DTSTAMP:20260419T172854
CREATED:20260215T101125Z
LAST-MODIFIED:20260417T111143Z
UID:10000998-1776605400-1776618000@wwvwinterswijk.nl
SUMMARY:Dolfijnwedstrijd 25/26 deel 3
DESCRIPTION:Voor wie: Basiszwemmen en door- en instroomselectie \nVertrek: 13:00 uur\nInzwemmen: 13:30 uur\nStart wedstrijd: 14:00 uur\nTrainer(s): Hetty\, Maurice\, Roos & Carlijn\nPloegleider: n.n.b.\nKlokkers: Beau\, Jackie\nVervoer: n.n.b. \nStartlijst WWV gemarkeerd\n\n\n\n    \n        \n            \n            \n                20260419 Dolfijnwedstrijd Deel 3 Lichtenvoorde Startlijst WWV\n                 1 bestand(en)  21.00 KB\n            \n            \n                Downloaden\n            \n        \n    \n\n\n\nDefinitieve inschrijving:\n\n\n\n    \n        \n            \n            \n                20260419 Dolfijnwedstrijd Deel 3 Lichtenvoorde inschrijving WWV\n                 1 bestand(en)  21.00 KB\n            \n            \n                Downloaden\n            \n        \n    \n\n\n\nAfmelden uiterlijk vrijdag 3 april\nAlleen voor instroomselectie: Afmelden hier\nInschrijving verstuurd 13 april \nUitslagen WWV n.n.b.\nUitslagen n.n.b.
URL:https://wwvwinterswijk.nl/activiteit/dolfijnwedstrijd-25-26-deel-3/
LOCATION:Zwembad ’t Meekenesch – Lichtenvoorde\, Kerkhoflaan 5\, Lichtenvoorde\, Gelderland\, 7131TE\, Nederland
CATEGORIES:Basiszwemwedstrijd,Zwemwedstrijden
END:VEVENT
BEGIN:VEVENT
DTSTART;TZID=Europe/Amsterdam:20260208T133000
DTEND;TZID=Europe/Amsterdam:20260208T160000
DTSTAMP:20260419T172854
CREATED:20260115T092616Z
LAST-MODIFIED:20260208T182450Z
UID:10000995-1770557400-1770566400@wwvwinterswijk.nl
SUMMARY:Dolfijnwedstrijd 25/26 deel 2
DESCRIPTION:Voor wie: Basiszwemmen en door- en instroomselectie \nVertrek: 13:00 uur\nInzwemmen: 13:30 uur\nStart wedstrijd: 14:00 uur\nTrainer(s): Iris & Roos\, Hetty voor instroomselectie\nPloegleider: n.n.b.\nKlokkers: Beau & Manon\nVervoer: n.n.b. \nUitslag WWV\n\n\n\n    \n        \n            \n            \n                20260208_Lichtenvoorde_Dolfijn_D2_Uitslag_WWV\n                 1 bestand(en)  22.71 KB\n            \n            \n                Downloaden\n            \n        \n    \n\n\n\nUitslag totaal\n\n\n\n    \n        \n            \n            \n                20260208_Lichtenvoorde_Dolfijn_D2_Uitslag\n                 1 bestand(en)  50.03 KB\n            \n            \n                Downloaden\n            \n        \n    \n\n\n\n\n \nStartlijst WWV gemarkeerd\n\n\n\n    \n        \n            \n            \n                20260208_Lichtenvoorde_Dolfijn_D2_Startlijst\n                 1 bestand(en)  49.55 KB\n            \n            \n                Downloaden\n            \n        \n    \n\n\n\nDefinitieve inschrijving\n\n\n\n    \n        \n            \n            \n                20260208 Dolfijnwedstrijd Deel 2 Lichtenvoorde inschrijving WWV\n                 1 bestand(en)  20.16 KB\n            \n            \n                Downloaden\n            \n        \n    \n\n\n\nAfmelden uiterlijk woensdag 28 januari\nAlleen voor instroomselectie: Afmelden en wijzigingen hier \nInschrijving verstuurd. \nUitslagen WWV n.n.b. \nUitslagen n.n.b.
URL:https://wwvwinterswijk.nl/activiteit/dolfijnwedstrijd-25-26-deel-2/
LOCATION:Zwembad ’t Meekenesch – Lichtenvoorde\, Kerkhoflaan 5\, Lichtenvoorde\, Gelderland\, 7131TE\, Nederland
CATEGORIES:Basiszwemwedstrijd,Zwemwedstrijden
END:VEVENT
BEGIN:VEVENT
DTSTART;TZID=Europe/Amsterdam:20250413T133000
DTEND;TZID=Europe/Amsterdam:20250413T160000
DTSTAMP:20260419T172855
CREATED:20240806T093646Z
LAST-MODIFIED:20250413T144429Z
UID:10000865-1744551000-1744560000@wwvwinterswijk.nl
SUMMARY:Dolfijnwedstrijd 24/25 deel 3
DESCRIPTION:Voor wie: Basiszwemmen en Instroomselectie \nVertrek: 13:00 uur\nInzwemmen: 13:30 uur\nStart wedstrijd: 14:00 uur\nTrainer(s): Carinne\, Hetty\nPloegleider: Jaap Jan\nKlokkers: Jorn\, Lisette\nVervoer: n.n.b. \nUitslagen WWV \nUitslagen \nStartlijst \nDefinitieve inschrijving \nAfmelden uiterlijk vrijdag 4 april 12 uur\nInschrijving verzonden zaterdag 5 april 2025 14:10uur\nAfmelden en wijzigingen hier
URL:https://wwvwinterswijk.nl/activiteit/dolfijnwedstrijd-24-25-deel-3/
LOCATION:Zwembad ’t Meekenesch – Lichtenvoorde\, Kerkhoflaan 5\, Lichtenvoorde\, Gelderland\, 7131TE\, Nederland
CATEGORIES:Basiszwemwedstrijd,Zwemwedstrijden
END:VEVENT
BEGIN:VEVENT
DTSTART;TZID=Europe/Amsterdam:20250315T130000
DTEND;TZID=Europe/Amsterdam:20250315T170000
DTSTAMP:20260419T172855
CREATED:20240804T102249Z
LAST-MODIFIED:20250316T105732Z
UID:10000852-1742043600-1742058000@wwvwinterswijk.nl
SUMMARY:Splash & Fun 24/25 deel 2
DESCRIPTION:Voor wie: Basiszwemmen en Instroomselectie \nAanwezig: 13:00 uur\nInzwemmen: 13:30 uur\nStart wedstrijd: 13:45 uur\nTrainer(s):\nPloegleider: Pien Mariëlle\nKlokkers: Jorn\, Beau\, Tessa\, Mirjam\nVrijwilligers: Kees-Jan\, Hetty\, Marieke\, Hetty\, Rolf\, Roos\, Iris\, Elin\, Thirza\, Caitlyn\, Loekie \nVoor basiszwemmen:\nAanmelden tot uiterlijk dinsdagavond 4 maart 20uur via splashenfun@wwvwinterswijk.nl\nVoor Instroomselectie:\nAfmelden tot uiterlijk dinsdagavond 4 maart 20uur via splashenfun@wwvwinterswijk.nl \nDefinitieve inschrijving \nStartlijst zwemnummers \nUitslagen Zwemnummers \nUitslag Punten Zwemmen en Spel \nUitslag Punten Zwemmen \nUitslag Punten Spel \nUitslagen WWV \nProgramma:\nIntrodans\n25m rugslag\nVerduiken\n25m schoolslag\nGlijbaan race\nPlanken\n25m vrije slag\nAfterparty met prijsuitreiking \nLink naar fotoalbum \n_KJ99538_20250315_14142525m rugslag\, Daan Duenk\, Ella Möllers\, Feline Hogewoning\, Luke van den Broek\, Maes Jentink\, Mecx van der Burg\, Medaille\, Natare\, Nora Beeks\, Roos Nieuwenhuis\, S&F2025ceremonie\, Splash & Fun 2025\, WWV\, WWV Winterswijk\, Winterswijkse Watersport Vereniging\, Zwembad Jaspers\, groepsfoto\, sport\, wedstrijd\, www.ZwemSportFoto.nl\, zwemmen | © Kees-Jan van Overbeeke | _KJ99538_20250315_141425 _KJ99546_20250315_14565225m schoolslag\, Boris Idink\, Daan Duenk\, Feline Hogewoning\, Maes Jentink\, Medaille\, Natare\, Nora Beeks\, Phileine Hukker\, Ravi te Hennepe\, Roos Nieuwenhuis\, S&F2025ceremonie\, Splash & Fun 2025\, WWV\, WWV Winterswijk\, Winterswijkse Watersport Vereniging\, Zwembad Jaspers\, groepsfoto\, sport\, wedstrijd\, www.ZwemSportFoto.nl\, zwemmen | © Kees-Jan van Overbeeke | _KJ99546_20250315_145652 _KJ99610_20250315_15454025m vrije slag\, Aymé Beijers\, Ella Möllers\, Ella te Lintum\, Feline Hogewoning\, Habib Jaha\, Jorijn Hinkamp\, Julian Hulzink\, Medaille\, Natare\, Nora Beeks\, S&F2025ceremonie\, Splash & Fun 2025\, WWV\, WWV Winterswijk\, Winterswijkse Watersport Vereniging\, Zwembad Jaspers\, groepsfoto\, sport\, wedstrijd\, www.ZwemSportFoto.nl\, zwemmen | © Kees-Jan van Overbeeke | _KJ99610_20250315_154540 _KJ99616_20250315_15472725m rugslag\, 25m schoolslag\, 25m vrije slag\, Aymé Beijers\, Boris Idink\, Daan Duenk\, Ella Möllers\, Ella te Lintum\, Feline Hogewoning\, Habib Jaha\, Jorijn Hinkamp\, Julian Hulzink\, Luke van den Broek\, Maes Jentink\, Mecx van der Burg\, Medaille\, Natare\, Nora Beeks\, Phileine Hukker\, Ravi te Hennepe\, Roos Nieuwenhuis\, S&F2025ceremonie\, Splash & Fun 2025\, WWV\, WWV Winterswijk\, Winterswijkse Watersport Vereniging\, Zwembad Jaspers\, groepsfoto\, sport\, wedstrijd\, www.ZwemSportFoto.nl\, zwemmen | © Kees-Jan van Overbeeke | _KJ99616_20250315_154727 _KJ99621_20250315_160720Boris Idink\, Daan Duenk\, Klassement winnaars\, Luke van den Broek\, Natare\, S&F2025ceremonie\, Splash & Fun 2025\, WWV\, WWV Winterswijk\, Winterswijkse Watersport Vereniging\, Zwembad Jaspers\, sport\, wedstrijd\, www.ZwemSportFoto.nl\, zwemmen | © Kees-Jan van Overbeeke | _KJ99621_20250315_160720 _KJ99626_20250315_160805Aymé Beijers\, Feline Hogewoning\, Klassement winnaars\, Lieke Bossink\, Natare\, S&F2025ceremonie\, Splash & Fun 2025\, WWV\, WWV Winterswijk\, Winterswijkse Watersport Vereniging\, Zwembad Jaspers\, sport\, wedstrijd\, www.ZwemSportFoto.nl\, zwemmen | © Kees-Jan van Overbeeke | _KJ99626_20250315_160805 _KJ99467_20250315_133835Basiszwemmen\, Instroomselectie\, S&F2025aktie\, Splash & Fun 2025\, WWV\, WWV Winterswijk\, Winterswijkse Watersport Vereniging\, Zwembad Jaspers\, inzwemmen\, sport\, warming-up\, wedstrijd\, www.ZwemSportFoto.nl\, zwemmen | © Kees-Jan van Overbeeke | _KJ99467_20250315_133835 _KJ99489_20250315_134826Basiszwemmen\, Instroomselectie\, Introdans\, S&F2025aktie\, Splash & Fun 2025\, WWV\, WWV Winterswijk\, Winterswijkse Watersport Vereniging\, Zwembad Jaspers\, inzwemmen\, sport\, warming-up\, wedstrijd\, www.ZwemSportFoto.nl\, zwemmen | © Kees-Jan van Overbeeke | _KJ99489_20250315_134826 _KJ99498_20250315_134832Basiszwemmen\, Instroomselectie\, Introdans\, S&F2025aktie\, Splash & Fun 2025\, WWV\, WWV Winterswijk\, Winterswijkse Watersport Vereniging\, Zwembad Jaspers\, inzwemmen\, sport\, warming-up\, wedstrijd\, www.ZwemSportFoto.nl\, zwemmen | © Kees-Jan van Overbeeke | _KJ99498_20250315_134832 _KJ99508_20250315_134847Basiszwemmen\, Instroomselectie\, Introdans\, S&F2025aktie\, Splash & Fun 2025\, WWV\, WWV Winterswijk\, Winterswijkse Watersport Vereniging\, Zwembad Jaspers\, inzwemmen\, sport\, warming-up\, wedstrijd\, www.ZwemSportFoto.nl\, zwemmen | © Kees-Jan van Overbeeke | _KJ99508_20250315_134847 _KJ99519_20250315_135005Basiszwemmen\, Instroomselectie\, Introdans\, S&F2025aktie\, Splash & Fun 2025\, WWV\, WWV Winterswijk\, Winterswijkse Watersport Vereniging\, Zwembad Jaspers\, inzwemmen\, sport\, warming-up\, wedstrijd\, www.ZwemSportFoto.nl\, zwemmen | © Kees-Jan van Overbeeke | _KJ99519_20250315_135005 _KJ99522_20250315_135007Basiszwemmen\, Instroomselectie\, Introdans\, S&F2025aktie\, Splash & Fun 2025\, WWV\, WWV Winterswijk\, Winterswijkse Watersport Vereniging\, Zwembad Jaspers\, inzwemmen\, sport\, warming-up\, wedstrijd\, www.ZwemSportFoto.nl\, zwemmen | © Kees-Jan van Overbeeke | _KJ99522_20250315_135007 _KJ99527_20250315_135038Basiszwemmen\, Instroomselectie\, Introdans\, S&F2025aktie\, Splash & Fun 2025\, WWV\, WWV Winterswijk\, Winterswijkse Watersport Vereniging\, Zwembad Jaspers\, inzwemmen\, sport\, warming-up\, wedstrijd\, www.ZwemSportFoto.nl\, zwemmen | © Kees-Jan van Overbeeke | _KJ99527_20250315_135038 _KJ99559_20250315_152226Basiszwemmen\, Boris Idink\, Instroomselectie\, Nora Beeks\, Roos Vruggink\, S&F2025aktie\, Splash & Fun 2025\, WWV\, WWV Winterswijk\, Winterswijkse Watersport Vereniging\, Zwembad Jaspers\, sport\, verduiken\, wedstrijd\, www.ZwemSportFoto.nl\, zwemmen | © Kees-Jan van Overbeeke | _KJ99559_20250315_152226 _KJ99567_20250315_152512Basiszwemmen\, Instroomselectie\, Roos Vruggink\, S&F2025aktie\, Splash & Fun 2025\, WWV\, WWV Winterswijk\, Winterswijkse Watersport Vereniging\, Zwembad Jaspers\, sport\, verduiken\, wedstrijd\, www.ZwemSportFoto.nl\, zwemmen | © Kees-Jan van Overbeeke | _KJ99567_20250315_152512 _KJ99592_20250315_152648Basiszwemmen\, Boris Idink\, Ella te Lintum\, Instroomselectie\, S&F2025aktie\, Splash & Fun 2025\, WWV\, WWV Winterswijk\, Winterswijkse Watersport Vereniging\, Zwembad Jaspers\, sport\, verduiken\, wedstrijd\, www.ZwemSportFoto.nl\, zwemmen | © Kees-Jan van Overbeeke | _KJ99592_20250315_152648 _KJ99597_20250315_152710Basiszwemmen\, Instroomselectie\, Iris Papen\, Roos Vruggink\, S&F2025aktie\, Splash & Fun 2025\, WWV\, WWV Winterswijk\, Winterswijkse Watersport Vereniging\, Zwembad Jaspers\, sport\, verduiken\, wedstrijd\, www.ZwemSportFoto.nl\, zwemmen | © Kees-Jan van Overbeeke | _KJ99597_20250315_152710 _KJ99604_20250315_152717Basiszwemmen\, Instroomselectie\, Nora Beeks\, Roos Vruggink\, S&F2025aktie\, Splash & Fun 2025\, WWV\, WWV Winterswijk\, Winterswijkse Watersport Vereniging\, Zwembad Jaspers\, sport\, verduiken\, wedstrijd\, www.ZwemSportFoto.nl\, zwemmen | © Kees-Jan van Overbeeke | _KJ99604_20250315_152717 _KJ99619_20250315_160344Basiszwemmen\, Instroomselectie\, Phileine Hukker\, S&F2025aktie\, Splash & Fun 2025\, WWV\, WWV Winterswijk\, Winterswijkse Watersport Vereniging\, Zwembad Jaspers\, sport\, wedstrijd\, www.ZwemSportFoto.nl\, zwemmen | © Kees-Jan van Overbeeke | _KJ99619_20250315_160344 _KJ99629_20250315_160842Basiszwemmen\, Instroomselectie\, Mecx van der Burg\, S&F2025aktie\, Splash & Fun 2025\, WWV\, WWV Winterswijk\, Winterswijkse Watersport Vereniging\, Zwembad Jaspers\, sport\, wedstrijd\, www.ZwemSportFoto.nl\, zwemmen | © Kees-Jan van Overbeeke | _KJ99629_20250315_160842 _KJ99632_20250315_160900Basiszwemmen\, Instroomselectie\, S&F2025aktie\, Splash & Fun 2025\, WWV\, WWV Winterswijk\, Winterswijkse Watersport Vereniging\, Zwembad Jaspers\, sport\, wedstrijd\, www.ZwemSportFoto.nl\, zwemmen | © Kees-Jan van Overbeeke | _KJ99632_20250315_160900
URL:https://wwvwinterswijk.nl/activiteit/splash-fun-24-25-deel-2/
LOCATION:Zwembad Jaspers\, Jaspersweg 3\, Winterswijk\, Gelderland\, 7103AV\, Nederland
CATEGORIES:Basiszwemwedstrijd,Zwemwedstrijden
ATTACH;FMTTYPE=image/png:https://wwvwinterswijk.nl/wp-content/uploads/2024/08/uitnodiging-splash-en-fun-Klein.png
ORGANIZER;CN="WWV Winterswijk":MAILTO:wedstrijdzwemmen@wwvwinterswijk.nl
END:VEVENT
BEGIN:VEVENT
DTSTART;TZID=Europe/Amsterdam:20250216T133000
DTEND;TZID=Europe/Amsterdam:20250216T160000
DTSTAMP:20260419T172855
CREATED:20240806T093605Z
LAST-MODIFIED:20250216T160700Z
UID:10000864-1739712600-1739721600@wwvwinterswijk.nl
SUMMARY:Dolfijnwedstrijd 24/25 deel 2
DESCRIPTION:Voor wie: Basiszwemmen en Instroomselectie \nVertrek: 13:00 uur\nInzwemmen: 13:30 uur\nStart wedstrijd: 14:00 uur\nTrainer(s): Iris & Roos\, Hetty voor instroomselectie\nPloegleider:\nKlokkers: Evelien\, Josien\, Jorn\nVervoer: Boris\, Ella\, Jorn \nUitslagen WWV \nUitslagen \nStartlijst \nDefinitieve inschrijving \nAfmelden uiterlijk vrijdag 7 februari 12 uur\nInschrijving verzonden maandag 10 februari 2025 20:32uur\nAfmelden en wijzigingen hier
URL:https://wwvwinterswijk.nl/activiteit/dolfijnwedstrijd-24-25-deel-2/
LOCATION:Zwembad ’t Meekenesch – Lichtenvoorde\, Kerkhoflaan 5\, Lichtenvoorde\, Gelderland\, 7131TE\, Nederland
CATEGORIES:Basiszwemwedstrijd,Zwemwedstrijden
END:VEVENT
BEGIN:VEVENT
DTSTART;TZID=Europe/Amsterdam:20241103T130000
DTEND;TZID=Europe/Amsterdam:20241103T170000
DTSTAMP:20260419T172855
CREATED:20240802T124633Z
LAST-MODIFIED:20241103T172236Z
UID:10000824-1730638800-1730653200@wwvwinterswijk.nl
SUMMARY:Dolfijnwedstrijd 24/25 deel 1
DESCRIPTION:Voor wie: Basiszwemmen en Instroomselectie \nVertrek: 13:00 uur\nInzwemmen: 13:30 uur\nStart wedstrijd: 14:00 uur\nTrainer(s): Pien\nPloegleider: Mariëlle\nKlokkers: Manon & Kevin \nUitslag WWV\nUitslag totaal \nStartlijst \nDefinitieve inschrijving\nVerzonden 26 oktober 2024 13:24uur
URL:https://wwvwinterswijk.nl/activiteit/dolfijnwedstrijd-24-25-deel-1/
LOCATION:Zwembad ’t Meekenesch – Lichtenvoorde\, Kerkhoflaan 5\, Lichtenvoorde\, Gelderland\, 7131TE\, Nederland
CATEGORIES:Basiszwemwedstrijd,Zwemwedstrijden
ATTACH;FMTTYPE=image/jpeg:https://wwvwinterswijk.nl/wp-content/uploads/2024/08/WWV_website_blog-20241103_165547_20241103_165548.jpg
END:VEVENT
BEGIN:VEVENT
DTSTART;TZID=Europe/Amsterdam:20241012T130000
DTEND;TZID=Europe/Amsterdam:20241012T170000
DTSTAMP:20260419T172855
CREATED:20240802T124633Z
LAST-MODIFIED:20241003T165940Z
UID:10000821-1728738000-1728752400@wwvwinterswijk.nl
SUMMARY:Splash & Fun 24/25 deel 1 - Vervallen
DESCRIPTION:Vervallen\nVoor wie: Basiszwemmen en Instroomselectie \nAanwezig: 13:00 uur\nInzwemmen: 13:30 uur\nStart wedstrijd: 14:00 uur\nTrainer(s):\nPloegleider:\nKlokkers:\nVrijwilligers:
URL:https://wwvwinterswijk.nl/activiteit/splash-fun-24-25-deel-1-vervallen/
LOCATION:Zwembad Jaspers\, Jaspersweg 3\, Winterswijk\, Gelderland\, 7103AV\, Nederland
CATEGORIES:Basiszwemwedstrijd,Zwemwedstrijden
ORGANIZER;CN="WWV Winterswijk":MAILTO:wedstrijdzwemmen@wwvwinterswijk.nl
END:VEVENT
BEGIN:VEVENT
DTSTART;TZID=Europe/Amsterdam:20240414T133000
DTEND;TZID=Europe/Amsterdam:20240414T170000
DTSTAMP:20260419T172855
CREATED:20231129T093057Z
LAST-MODIFIED:20240415T082949Z
UID:10000350-1713101400-1713114000@wwvwinterswijk.nl
SUMMARY:Dolfijnwedstrijd Deel 3 23-24
DESCRIPTION:Voor wie: Basiszwemmen en Instroomselectie \nAanmelden kan tot woensdagavond 3 april 20uur via email basiszwemmen@wwvwinterswijk.nl \nVertrek: 13:00 uur\nInzwemmen: 13:30 uur\nStart wedstrijd: 14:00 uur\nTrainer: Roos en Carinne\nPloegleider: Roos en Carinne\nOfficials: Manon Weijers en Evelien Nagel\nVervoer: Rob (vader Joep)\, Evelien \nUitslag WWV \nUitslag \nStartlijst \nDefinitieve inschrijving
URL:https://wwvwinterswijk.nl/activiteit/dolfijnwedstrijd-deel-3-23-24/
LOCATION:Zwembad ’t Meekenesch – Lichtenvoorde\, Kerkhoflaan 5\, Lichtenvoorde\, Gelderland\, 7131TE\, Nederland
CATEGORIES:Basiszwemwedstrijd,Zwemwedstrijden
ATTACH;FMTTYPE=image/jpeg:https://wwvwinterswijk.nl/wp-content/uploads/2023/11/WWV_website_blog-20240414_155702.jpg
END:VEVENT
BEGIN:VEVENT
DTSTART;TZID=Europe/Amsterdam:20240302T130000
DTEND;TZID=Europe/Amsterdam:20240302T164500
DTSTAMP:20260419T172855
CREATED:20231129T092604Z
LAST-MODIFIED:20240304T092024Z
UID:10000348-1709384400-1709397900@wwvwinterswijk.nl
SUMMARY:Splash & Fun 23/24 deel 2
DESCRIPTION:Voor wie: alle WWV zwemmers van 12 jaar en jonger\nAanwezig: 13:00 uur\nInzwemmen: 13:30 uur\nStart wedstrijd: 14:00 uur\nEinde wedstrijd ongeveer 16:30uur \nUitslag spelletjes \nUitslag zwemmen \nDefinitief 1 van 29 februari inschrijving
URL:https://wwvwinterswijk.nl/activiteit/splash-fun-23-24-deel-2/
LOCATION:Zwembad Jaspers\, Jaspersweg 3\, Winterswijk\, Gelderland\, 7103AV\, Nederland
CATEGORIES:Basiszwemwedstrijd,Zwemwedstrijden
ATTACH;FMTTYPE=image/jpeg:https://wwvwinterswijk.nl/wp-content/uploads/2023/11/WWV_website_blog-_KJ92718_20240302_160545-Edit.jpg
ORGANIZER;CN="WWV Winterswijk":MAILTO:wedstrijdzwemmen@wwvwinterswijk.nl
END:VEVENT
BEGIN:VEVENT
DTSTART;TZID=Europe/Amsterdam:20240218T133000
DTEND;TZID=Europe/Amsterdam:20240218T170000
DTSTAMP:20260419T172855
CREATED:20231129T092833Z
LAST-MODIFIED:20240220T194235Z
UID:10000349-1708263000-1708275600@wwvwinterswijk.nl
SUMMARY:Dolfijnwedstrijd Deel 2 23-24
DESCRIPTION:Voor wie: Basiszwemmen en Instroomselectie \nVertrek: 13:00 uur\nInzwemmen: 13:30 uur\nStart wedstrijd: 14:00 uur\nTrainer: Hetty & Roos\nPloegleider: Josien\nOfficials: Evelien\, Manon\nVervoer: Evelien\, Josien\, Manon\, Leanne\, Melanie \nVideo’s van de instroom \nUitslag WWV \nUitslag totaal \nStartlijst \nInschrijving Definitief
URL:https://wwvwinterswijk.nl/activiteit/dolfijnwedstrijd-deel-2-23-24/
LOCATION:Zwembad ’t Meekenesch – Lichtenvoorde\, Kerkhoflaan 5\, Lichtenvoorde\, Gelderland\, 7131TE\, Nederland
CATEGORIES:Basiszwemwedstrijd,Zwemwedstrijden
ATTACH;FMTTYPE=image/jpeg:https://wwvwinterswijk.nl/wp-content/uploads/2023/11/FB_HR_WWV-_KJ92524_20240218_153302.jpg
END:VEVENT
BEGIN:VEVENT
DTSTART;TZID=Europe/Amsterdam:20231112T133000
DTEND;TZID=Europe/Amsterdam:20231112T160000
DTSTAMP:20260419T172855
CREATED:20231008T140547Z
LAST-MODIFIED:20231113T083520Z
UID:10000209-1699795800-1699804800@wwvwinterswijk.nl
SUMMARY:Dolfijnwedstrijd Deel 1 23-24
DESCRIPTION:Vertrek: 13:00 uur\nInzwemmen: 13:30 uur\nStart wedstrijd: 14:00 uur\nTrainer: Marike\nPloegleider: Sarissa\nOfficials: Mariëlle & Josien\nVervoer: Boris\, Aymé\, Phileine\, Yvette & Eva \nUitslag WWV \nUitslag Totaal \nStartlijst definitief \nVoorlopige inschrijving
URL:https://wwvwinterswijk.nl/activiteit/dolfijnwedstrijd-deel-1-23-24/
LOCATION:Zwembad ’t Meekenesch – Lichtenvoorde\, Kerkhoflaan 5\, Lichtenvoorde\, Gelderland\, 7131TE\, Nederland
CATEGORIES:Basiszwemwedstrijd,Zwemwedstrijden
ORGANIZER;CN="WWV Winterswijk":MAILTO:wedstrijdzwemmen@wwvwinterswijk.nl
END:VEVENT
BEGIN:VEVENT
DTSTART;TZID=Europe/Amsterdam:20231028T133000
DTEND;TZID=Europe/Amsterdam:20231028T170000
DTSTAMP:20260419T172855
CREATED:20230831T170639Z
LAST-MODIFIED:20231031T163627Z
UID:10000018-1698499800-1698512400@wwvwinterswijk.nl
SUMMARY:Splash & Fun 23/24 deel 1
DESCRIPTION:Voor wie: zwemmers 12 jaar en jonger\nAanwezig: 13:30 uur\nInzwemmen: 13:45 uur\nStart wedstrijd: 14:30 uur \nVrijwilligers: Daniëlle\, Leanne\, Luc\, Manon\, Margreet\, Mirjam\, Rianne\, Roos\, Sarissa & Wessel J. \nUitslag zwem compleet \nInschrijflijst op naam \n 
URL:https://wwvwinterswijk.nl/activiteit/splash-fun-23-24-deel-1/
LOCATION:Zwembad Jaspers\, Jaspersweg 3\, Winterswijk\, Gelderland\, 7103AV\, Nederland
CATEGORIES:Basiszwemwedstrijd,Zwemwedstrijden
ORGANIZER;CN="WWV Winterswijk":MAILTO:wedstrijdzwemmen@wwvwinterswijk.nl
END:VEVENT
END:VCALENDAR